BEGIN:VCALENDAR
VERSION:2.0
PRODID:-//Park Parents Family Resource Hub - ECPv6.15.20//NONSGML v1.0//EN
CALSCALE:GREGORIAN
METHOD:PUBLISH
X-WR-CALNAME:Park Parents Family Resource Hub
X-ORIGINAL-URL:https://www.parkparents.org
X-WR-CALDESC:Events for Park Parents Family Resource Hub
REFRESH-INTERVAL;VALUE=DURATION:PT1H
X-Robots-Tag:noindex
X-PUBLISHED-TTL:PT1H
BEGIN:VTIMEZONE
TZID:UTC
BEGIN:STANDARD
TZOFFSETFROM:+0000
TZOFFSETTO:+0000
TZNAME:UTC
DTSTART:20240101T000000
END:STANDARD
END:VTIMEZONE
BEGIN:VEVENT
DTSTART;TZID=UTC:20251011T100000
DTEND;TZID=UTC:20251011T120000
DTSTAMP:20260424T215355
CREATED:20250925T151652Z
LAST-MODIFIED:20250925T151745Z
UID:10001330-1760176800-1760184000@www.parkparents.org
SUMMARY:Pumpkin Patch
DESCRIPTION:
URL:https://www.parkparents.org/event/pumpkin-patch/
LOCATION:Deer Creek Self Storage\, 18 Bull Dogger Dr\, Bailey\, CO\, 80421\, United States
CATEGORIES:Bailey
END:VEVENT
END:VCALENDAR