BEGIN:VCALENDAR
VERSION:2.0
PRODID:-//Park Parents Family Resource Hub - ECPv6.15.20//NONSGML v1.0//EN
CALSCALE:GREGORIAN
METHOD:PUBLISH
X-ORIGINAL-URL:https://www.parkparents.org
X-WR-CALDESC:Events for Park Parents Family Resource Hub
REFRESH-INTERVAL;VALUE=DURATION:PT1H
X-Robots-Tag:noindex
X-PUBLISHED-TTL:PT1H
BEGIN:VTIMEZONE
TZID:UTC
BEGIN:STANDARD
TZOFFSETFROM:+0000
TZOFFSETTO:+0000
TZNAME:UTC
DTSTART:20250101T000000
END:STANDARD
END:VTIMEZONE
BEGIN:VEVENT
DTSTART;TZID=UTC:20260305T110000
DTEND;TZID=UTC:20260305T140000
DTSTAMP:20260424T134926
CREATED:20250825T190652Z
LAST-MODIFIED:20250825T192129Z
UID:10001229-1772708400-1772719200@www.parkparents.org
SUMMARY:Rocky Mountain Rural Health Free Screening
DESCRIPTION:Rocky Mountain Rural Health will be at Bailey Library on Thursday\, March 6th from 11:00AM 2:00 PM to provide outreach for uninsured individuals in Park County. They’ll be sharing information about their Community Medical Assistance Program\, which helps those who are uninsured or underinsured access medical care and prescriptions. \nIf you or someone you know could benefit from these services\, be sure to stop by! For more details\, visit Rocky Mountain Rural Health website or call (719) 836-2169\n.
URL:https://www.parkparents.org/event/story-time/2026-03-05/
LOCATION:Bailey Library\, 350 Bulldogger Rd\, Bailey\, CO\, 80421\, United States
CATEGORIES:Bailey
END:VEVENT
END:VCALENDAR