BEGIN:VCALENDAR
VERSION:2.0
PRODID:-//Park Parents Family Resource Hub - ECPv6.15.20//NONSGML v1.0//EN
CALSCALE:GREGORIAN
METHOD:PUBLISH
X-WR-CALNAME:Park Parents Family Resource Hub
X-ORIGINAL-URL:https://www.parkparents.org
X-WR-CALDESC:Events for Park Parents Family Resource Hub
REFRESH-INTERVAL;VALUE=DURATION:PT1H
X-Robots-Tag:noindex
X-PUBLISHED-TTL:PT1H
BEGIN:VTIMEZONE
TZID:UTC
BEGIN:STANDARD
TZOFFSETFROM:+0000
TZOFFSETTO:+0000
TZNAME:UTC
DTSTART:20250101T000000
END:STANDARD
END:VTIMEZONE
BEGIN:VEVENT
DTSTART;TZID=UTC:20260302T083000
DTEND;TZID=UTC:20260302T093000
DTSTAMP:20260425T183910
CREATED:20250828T201129Z
LAST-MODIFIED:20250828T201129Z
UID:10001308-1772440200-1772443800@www.parkparents.org
SUMMARY:Infant & Toddler Playgroup
DESCRIPTION:
URL:https://www.parkparents.org/event/infant-toddler-playgroup/2026-03-02/
LOCATION:Edith Teter Preschool\, 640 Hathaway Street\, Fairplay\, CO\, 80440\, United States
CATEGORIES:Lake George,South Park
ATTACH;FMTTYPE=image/png:https://www.parkparents.org/wp-content/uploads/2025/08/Playgroup-5.png
END:VEVENT
BEGIN:VEVENT
DTSTART;TZID=UTC:20260309T083000
DTEND;TZID=UTC:20260309T093000
DTSTAMP:20260425T183910
CREATED:20250828T201129Z
LAST-MODIFIED:20250828T201129Z
UID:10001309-1773045000-1773048600@www.parkparents.org
SUMMARY:Infant & Toddler Playgroup
DESCRIPTION:
URL:https://www.parkparents.org/event/infant-toddler-playgroup/2026-03-09/
LOCATION:Edith Teter Preschool\, 640 Hathaway Street\, Fairplay\, CO\, 80440\, United States
CATEGORIES:Lake George,South Park
ATTACH;FMTTYPE=image/png:https://www.parkparents.org/wp-content/uploads/2025/08/Playgroup-5.png
END:VEVENT
BEGIN:VEVENT
DTSTART;TZID=UTC:20260316T083000
DTEND;TZID=UTC:20260316T093000
DTSTAMP:20260425T183910
CREATED:20250828T201129Z
LAST-MODIFIED:20250828T201129Z
UID:10001310-1773649800-1773653400@www.parkparents.org
SUMMARY:Infant & Toddler Playgroup
DESCRIPTION:
URL:https://www.parkparents.org/event/infant-toddler-playgroup/2026-03-16/
LOCATION:Edith Teter Preschool\, 640 Hathaway Street\, Fairplay\, CO\, 80440\, United States
CATEGORIES:Lake George,South Park
ATTACH;FMTTYPE=image/png:https://www.parkparents.org/wp-content/uploads/2025/08/Playgroup-5.png
END:VEVENT
BEGIN:VEVENT
DTSTART;TZID=UTC:20260323T083000
DTEND;TZID=UTC:20260323T093000
DTSTAMP:20260425T183910
CREATED:20250828T201129Z
LAST-MODIFIED:20250828T201129Z
UID:10001311-1774254600-1774258200@www.parkparents.org
SUMMARY:Infant & Toddler Playgroup
DESCRIPTION:
URL:https://www.parkparents.org/event/infant-toddler-playgroup/2026-03-23/
LOCATION:Edith Teter Preschool\, 640 Hathaway Street\, Fairplay\, CO\, 80440\, United States
CATEGORIES:Lake George,South Park
ATTACH;FMTTYPE=image/png:https://www.parkparents.org/wp-content/uploads/2025/08/Playgroup-5.png
END:VEVENT
BEGIN:VEVENT
DTSTART;TZID=UTC:20260330T083000
DTEND;TZID=UTC:20260330T093000
DTSTAMP:20260425T183910
CREATED:20250828T201129Z
LAST-MODIFIED:20250828T201129Z
UID:10001312-1774859400-1774863000@www.parkparents.org
SUMMARY:Infant & Toddler Playgroup
DESCRIPTION:
URL:https://www.parkparents.org/event/infant-toddler-playgroup/2026-03-30/
LOCATION:Edith Teter Preschool\, 640 Hathaway Street\, Fairplay\, CO\, 80440\, United States
CATEGORIES:Lake George,South Park
ATTACH;FMTTYPE=image/png:https://www.parkparents.org/wp-content/uploads/2025/08/Playgroup-5.png
END:VEVENT
END:VCALENDAR