BEGIN:VCALENDAR
VERSION:2.0
PRODID:-//Park Parents Family Resource Hub - ECPv6.15.20//NONSGML v1.0//EN
CALSCALE:GREGORIAN
METHOD:PUBLISH
X-WR-CALNAME:Park Parents Family Resource Hub
X-ORIGINAL-URL:https://www.parkparents.org
X-WR-CALDESC:Events for Park Parents Family Resource Hub
REFRESH-INTERVAL;VALUE=DURATION:PT1H
X-Robots-Tag:noindex
X-PUBLISHED-TTL:PT1H
BEGIN:VTIMEZONE
TZID:UTC
BEGIN:STANDARD
TZOFFSETFROM:+0000
TZOFFSETTO:+0000
TZNAME:UTC
DTSTART:20240101T000000
END:STANDARD
END:VTIMEZONE
BEGIN:VEVENT
DTSTART;TZID=UTC:20251117T083000
DTEND;TZID=UTC:20251117T093000
DTSTAMP:20260426T022122
CREATED:20250828T201129Z
LAST-MODIFIED:20250828T201129Z
UID:10001293-1763368200-1763371800@www.parkparents.org
SUMMARY:Infant & Toddler Playgroup
DESCRIPTION:
URL:https://www.parkparents.org/event/infant-toddler-playgroup/2025-11-17/
LOCATION:Edith Teter Preschool\, 640 Hathaway Street\, Fairplay\, CO\, 80440\, United States
CATEGORIES:Lake George,South Park
ATTACH;FMTTYPE=image/png:https://www.parkparents.org/wp-content/uploads/2025/08/Playgroup-5.png
END:VEVENT
END:VCALENDAR