BEGIN:VCALENDAR
VERSION:2.0
PRODID:-//Park Parents Family Resource Hub - ECPv6.15.20//NONSGML v1.0//EN
CALSCALE:GREGORIAN
METHOD:PUBLISH
X-ORIGINAL-URL:https://www.parkparents.org
X-WR-CALDESC:Events for Park Parents Family Resource Hub
REFRESH-INTERVAL;VALUE=DURATION:PT1H
X-Robots-Tag:noindex
X-PUBLISHED-TTL:PT1H
BEGIN:VTIMEZONE
TZID:UTC
BEGIN:STANDARD
TZOFFSETFROM:+0000
TZOFFSETTO:+0000
TZNAME:UTC
DTSTART:20230101T000000
END:STANDARD
END:VTIMEZONE
BEGIN:VEVENT
DTSTART;TZID=UTC:20260126T083000
DTEND;TZID=UTC:20260126T093000
DTSTAMP:20260425T184131
CREATED:20250828T201129Z
LAST-MODIFIED:20250828T201129Z
UID:10001303-1769416200-1769419800@www.parkparents.org
SUMMARY:Infant & Toddler Playgroup
DESCRIPTION:
URL:https://www.parkparents.org/event/infant-toddler-playgroup/2026-01-26/
LOCATION:Edith Teter Preschool\, 640 Hathaway Street\, Fairplay\, CO\, 80440\, United States
CATEGORIES:Lake George,South Park
ATTACH;FMTTYPE=image/png:https://www.parkparents.org/wp-content/uploads/2025/08/Playgroup-5.png
END:VEVENT
BEGIN:VEVENT
DTSTART;TZID=UTC:20260119T083000
DTEND;TZID=UTC:20260119T093000
DTSTAMP:20260425T184131
CREATED:20250828T201129Z
LAST-MODIFIED:20250828T201129Z
UID:10001302-1768811400-1768815000@www.parkparents.org
SUMMARY:Infant & Toddler Playgroup
DESCRIPTION:
URL:https://www.parkparents.org/event/infant-toddler-playgroup/2026-01-19/
LOCATION:Edith Teter Preschool\, 640 Hathaway Street\, Fairplay\, CO\, 80440\, United States
CATEGORIES:Lake George,South Park
ATTACH;FMTTYPE=image/png:https://www.parkparents.org/wp-content/uploads/2025/08/Playgroup-5.png
END:VEVENT
BEGIN:VEVENT
DTSTART;TZID=UTC:20260112T083000
DTEND;TZID=UTC:20260112T093000
DTSTAMP:20260425T184131
CREATED:20250828T201129Z
LAST-MODIFIED:20250828T201129Z
UID:10001301-1768206600-1768210200@www.parkparents.org
SUMMARY:Infant & Toddler Playgroup
DESCRIPTION:
URL:https://www.parkparents.org/event/infant-toddler-playgroup/2026-01-12/
LOCATION:Edith Teter Preschool\, 640 Hathaway Street\, Fairplay\, CO\, 80440\, United States
CATEGORIES:Lake George,South Park
ATTACH;FMTTYPE=image/png:https://www.parkparents.org/wp-content/uploads/2025/08/Playgroup-5.png
END:VEVENT
BEGIN:VEVENT
DTSTART;TZID=UTC:20260105T083000
DTEND;TZID=UTC:20260105T093000
DTSTAMP:20260425T184131
CREATED:20250828T201129Z
LAST-MODIFIED:20250828T201129Z
UID:10001300-1767601800-1767605400@www.parkparents.org
SUMMARY:Infant & Toddler Playgroup
DESCRIPTION:
URL:https://www.parkparents.org/event/infant-toddler-playgroup/2026-01-05/
LOCATION:Edith Teter Preschool\, 640 Hathaway Street\, Fairplay\, CO\, 80440\, United States
CATEGORIES:Lake George,South Park
ATTACH;FMTTYPE=image/png:https://www.parkparents.org/wp-content/uploads/2025/08/Playgroup-5.png
END:VEVENT
BEGIN:VEVENT
DTSTART;TZID=UTC:20251229T083000
DTEND;TZID=UTC:20251229T093000
DTSTAMP:20260425T184131
CREATED:20250828T201129Z
LAST-MODIFIED:20250828T201129Z
UID:10001299-1766997000-1767000600@www.parkparents.org
SUMMARY:Infant & Toddler Playgroup
DESCRIPTION:
URL:https://www.parkparents.org/event/infant-toddler-playgroup/2025-12-29/
LOCATION:Edith Teter Preschool\, 640 Hathaway Street\, Fairplay\, CO\, 80440\, United States
CATEGORIES:Lake George,South Park
ATTACH;FMTTYPE=image/png:https://www.parkparents.org/wp-content/uploads/2025/08/Playgroup-5.png
END:VEVENT
BEGIN:VEVENT
DTSTART;TZID=UTC:20251222T083000
DTEND;TZID=UTC:20251222T093000
DTSTAMP:20260425T184131
CREATED:20250828T201129Z
LAST-MODIFIED:20250828T201129Z
UID:10001298-1766392200-1766395800@www.parkparents.org
SUMMARY:Infant & Toddler Playgroup
DESCRIPTION:
URL:https://www.parkparents.org/event/infant-toddler-playgroup/2025-12-22/
LOCATION:Edith Teter Preschool\, 640 Hathaway Street\, Fairplay\, CO\, 80440\, United States
CATEGORIES:Lake George,South Park
ATTACH;FMTTYPE=image/png:https://www.parkparents.org/wp-content/uploads/2025/08/Playgroup-5.png
END:VEVENT
BEGIN:VEVENT
DTSTART;TZID=UTC:20251215T083000
DTEND;TZID=UTC:20251215T093000
DTSTAMP:20260425T184131
CREATED:20250828T201129Z
LAST-MODIFIED:20250828T201129Z
UID:10001297-1765787400-1765791000@www.parkparents.org
SUMMARY:Infant & Toddler Playgroup
DESCRIPTION:
URL:https://www.parkparents.org/event/infant-toddler-playgroup/2025-12-15/
LOCATION:Edith Teter Preschool\, 640 Hathaway Street\, Fairplay\, CO\, 80440\, United States
CATEGORIES:Lake George,South Park
ATTACH;FMTTYPE=image/png:https://www.parkparents.org/wp-content/uploads/2025/08/Playgroup-5.png
END:VEVENT
BEGIN:VEVENT
DTSTART;TZID=UTC:20251208T083000
DTEND;TZID=UTC:20251208T093000
DTSTAMP:20260425T184131
CREATED:20250828T201129Z
LAST-MODIFIED:20250828T201129Z
UID:10001296-1765182600-1765186200@www.parkparents.org
SUMMARY:Infant & Toddler Playgroup
DESCRIPTION:
URL:https://www.parkparents.org/event/infant-toddler-playgroup/2025-12-08/
LOCATION:Edith Teter Preschool\, 640 Hathaway Street\, Fairplay\, CO\, 80440\, United States
CATEGORIES:Lake George,South Park
ATTACH;FMTTYPE=image/png:https://www.parkparents.org/wp-content/uploads/2025/08/Playgroup-5.png
END:VEVENT
BEGIN:VEVENT
DTSTART;TZID=UTC:20251201T083000
DTEND;TZID=UTC:20251201T093000
DTSTAMP:20260425T184131
CREATED:20250828T201129Z
LAST-MODIFIED:20250828T201129Z
UID:10001295-1764577800-1764581400@www.parkparents.org
SUMMARY:Infant & Toddler Playgroup
DESCRIPTION:
URL:https://www.parkparents.org/event/infant-toddler-playgroup/2025-12-01/
LOCATION:Edith Teter Preschool\, 640 Hathaway Street\, Fairplay\, CO\, 80440\, United States
CATEGORIES:Lake George,South Park
ATTACH;FMTTYPE=image/png:https://www.parkparents.org/wp-content/uploads/2025/08/Playgroup-5.png
END:VEVENT
BEGIN:VEVENT
DTSTART;TZID=UTC:20251124T083000
DTEND;TZID=UTC:20251124T093000
DTSTAMP:20260425T184131
CREATED:20250828T201129Z
LAST-MODIFIED:20250828T201129Z
UID:10001294-1763973000-1763976600@www.parkparents.org
SUMMARY:Infant & Toddler Playgroup
DESCRIPTION:
URL:https://www.parkparents.org/event/infant-toddler-playgroup/2025-11-24/
LOCATION:Edith Teter Preschool\, 640 Hathaway Street\, Fairplay\, CO\, 80440\, United States
CATEGORIES:Lake George,South Park
ATTACH;FMTTYPE=image/png:https://www.parkparents.org/wp-content/uploads/2025/08/Playgroup-5.png
END:VEVENT
BEGIN:VEVENT
DTSTART;TZID=UTC:20251117T083000
DTEND;TZID=UTC:20251117T093000
DTSTAMP:20260425T184131
CREATED:20250828T201129Z
LAST-MODIFIED:20250828T201129Z
UID:10001293-1763368200-1763371800@www.parkparents.org
SUMMARY:Infant & Toddler Playgroup
DESCRIPTION:
URL:https://www.parkparents.org/event/infant-toddler-playgroup/2025-11-17/
LOCATION:Edith Teter Preschool\, 640 Hathaway Street\, Fairplay\, CO\, 80440\, United States
CATEGORIES:Lake George,South Park
ATTACH;FMTTYPE=image/png:https://www.parkparents.org/wp-content/uploads/2025/08/Playgroup-5.png
END:VEVENT
BEGIN:VEVENT
DTSTART;TZID=UTC:20251110T083000
DTEND;TZID=UTC:20251110T093000
DTSTAMP:20260425T184131
CREATED:20250828T201129Z
LAST-MODIFIED:20250828T201129Z
UID:10001292-1762763400-1762767000@www.parkparents.org
SUMMARY:Infant & Toddler Playgroup
DESCRIPTION:
URL:https://www.parkparents.org/event/infant-toddler-playgroup/2025-11-10/
LOCATION:Edith Teter Preschool\, 640 Hathaway Street\, Fairplay\, CO\, 80440\, United States
CATEGORIES:Lake George,South Park
ATTACH;FMTTYPE=image/png:https://www.parkparents.org/wp-content/uploads/2025/08/Playgroup-5.png
END:VEVENT
BEGIN:VEVENT
DTSTART;TZID=UTC:20251103T083000
DTEND;TZID=UTC:20251103T093000
DTSTAMP:20260425T184131
CREATED:20250828T201129Z
LAST-MODIFIED:20250828T201129Z
UID:10001291-1762158600-1762162200@www.parkparents.org
SUMMARY:Infant & Toddler Playgroup
DESCRIPTION:
URL:https://www.parkparents.org/event/infant-toddler-playgroup/2025-11-03/
LOCATION:Edith Teter Preschool\, 640 Hathaway Street\, Fairplay\, CO\, 80440\, United States
CATEGORIES:Lake George,South Park
ATTACH;FMTTYPE=image/png:https://www.parkparents.org/wp-content/uploads/2025/08/Playgroup-5.png
END:VEVENT
BEGIN:VEVENT
DTSTART;TZID=UTC:20251027T083000
DTEND;TZID=UTC:20251027T093000
DTSTAMP:20260425T184131
CREATED:20250828T201129Z
LAST-MODIFIED:20250828T201129Z
UID:10001290-1761553800-1761557400@www.parkparents.org
SUMMARY:Infant & Toddler Playgroup
DESCRIPTION:
URL:https://www.parkparents.org/event/infant-toddler-playgroup/2025-10-27/
LOCATION:Edith Teter Preschool\, 640 Hathaway Street\, Fairplay\, CO\, 80440\, United States
CATEGORIES:Lake George,South Park
ATTACH;FMTTYPE=image/png:https://www.parkparents.org/wp-content/uploads/2025/08/Playgroup-5.png
END:VEVENT
BEGIN:VEVENT
DTSTART;TZID=UTC:20251020T083000
DTEND;TZID=UTC:20251020T093000
DTSTAMP:20260425T184131
CREATED:20250828T201129Z
LAST-MODIFIED:20250828T201129Z
UID:10001289-1760949000-1760952600@www.parkparents.org
SUMMARY:Infant & Toddler Playgroup
DESCRIPTION:
URL:https://www.parkparents.org/event/infant-toddler-playgroup/2025-10-20/
LOCATION:Edith Teter Preschool\, 640 Hathaway Street\, Fairplay\, CO\, 80440\, United States
CATEGORIES:Lake George,South Park
ATTACH;FMTTYPE=image/png:https://www.parkparents.org/wp-content/uploads/2025/08/Playgroup-5.png
END:VEVENT
BEGIN:VEVENT
DTSTART;TZID=UTC:20251013T083000
DTEND;TZID=UTC:20251013T093000
DTSTAMP:20260425T184131
CREATED:20250828T201129Z
LAST-MODIFIED:20250828T201129Z
UID:10001288-1760344200-1760347800@www.parkparents.org
SUMMARY:Infant & Toddler Playgroup
DESCRIPTION:
URL:https://www.parkparents.org/event/infant-toddler-playgroup/2025-10-13/
LOCATION:Edith Teter Preschool\, 640 Hathaway Street\, Fairplay\, CO\, 80440\, United States
CATEGORIES:Lake George,South Park
ATTACH;FMTTYPE=image/png:https://www.parkparents.org/wp-content/uploads/2025/08/Playgroup-5.png
END:VEVENT
BEGIN:VEVENT
DTSTART;TZID=UTC:20251006T083000
DTEND;TZID=UTC:20251006T093000
DTSTAMP:20260425T184131
CREATED:20250828T201129Z
LAST-MODIFIED:20250828T201129Z
UID:10001287-1759739400-1759743000@www.parkparents.org
SUMMARY:Infant & Toddler Playgroup
DESCRIPTION:
URL:https://www.parkparents.org/event/infant-toddler-playgroup/2025-10-06/
LOCATION:Edith Teter Preschool\, 640 Hathaway Street\, Fairplay\, CO\, 80440\, United States
CATEGORIES:Lake George,South Park
ATTACH;FMTTYPE=image/png:https://www.parkparents.org/wp-content/uploads/2025/08/Playgroup-5.png
END:VEVENT
BEGIN:VEVENT
DTSTART;TZID=UTC:20250929T083000
DTEND;TZID=UTC:20250929T093000
DTSTAMP:20260425T184131
CREATED:20250828T201129Z
LAST-MODIFIED:20250828T201129Z
UID:10001286-1759134600-1759138200@www.parkparents.org
SUMMARY:Infant & Toddler Playgroup
DESCRIPTION:
URL:https://www.parkparents.org/event/infant-toddler-playgroup/2025-09-29/
LOCATION:Edith Teter Preschool\, 640 Hathaway Street\, Fairplay\, CO\, 80440\, United States
CATEGORIES:Lake George,South Park
ATTACH;FMTTYPE=image/png:https://www.parkparents.org/wp-content/uploads/2025/08/Playgroup-5.png
END:VEVENT
BEGIN:VEVENT
DTSTART;TZID=UTC:20250922T083000
DTEND;TZID=UTC:20250922T093000
DTSTAMP:20260425T184131
CREATED:20250828T201129Z
LAST-MODIFIED:20250828T201129Z
UID:10001285-1758529800-1758533400@www.parkparents.org
SUMMARY:Infant & Toddler Playgroup
DESCRIPTION:
URL:https://www.parkparents.org/event/infant-toddler-playgroup/2025-09-22/
LOCATION:Edith Teter Preschool\, 640 Hathaway Street\, Fairplay\, CO\, 80440\, United States
CATEGORIES:Lake George,South Park
ATTACH;FMTTYPE=image/png:https://www.parkparents.org/wp-content/uploads/2025/08/Playgroup-5.png
END:VEVENT
BEGIN:VEVENT
DTSTART;TZID=UTC:20250915T083000
DTEND;TZID=UTC:20250915T093000
DTSTAMP:20260425T184131
CREATED:20250828T201129Z
LAST-MODIFIED:20250828T201129Z
UID:10001284-1757925000-1757928600@www.parkparents.org
SUMMARY:Infant & Toddler Playgroup
DESCRIPTION:
URL:https://www.parkparents.org/event/infant-toddler-playgroup/2025-09-15/
LOCATION:Edith Teter Preschool\, 640 Hathaway Street\, Fairplay\, CO\, 80440\, United States
CATEGORIES:Lake George,South Park
ATTACH;FMTTYPE=image/png:https://www.parkparents.org/wp-content/uploads/2025/08/Playgroup-5.png
END:VEVENT
BEGIN:VEVENT
DTSTART;TZID=UTC:20250908T083000
DTEND;TZID=UTC:20250908T093000
DTSTAMP:20260425T184131
CREATED:20250828T201129Z
LAST-MODIFIED:20250828T201129Z
UID:10001283-1757320200-1757323800@www.parkparents.org
SUMMARY:Infant & Toddler Playgroup
DESCRIPTION:
URL:https://www.parkparents.org/event/infant-toddler-playgroup/2025-09-08/
LOCATION:Edith Teter Preschool\, 640 Hathaway Street\, Fairplay\, CO\, 80440\, United States
CATEGORIES:Lake George,South Park
ATTACH;FMTTYPE=image/png:https://www.parkparents.org/wp-content/uploads/2025/08/Playgroup-5.png
END:VEVENT
BEGIN:VEVENT
DTSTART;TZID=UTC:20240713T100000
DTEND;TZID=UTC:20240713T140000
DTSTAMP:20260425T184131
CREATED:20240628T194358Z
LAST-MODIFIED:20240628T194358Z
UID:10000433-1720864800-1720879200@www.parkparents.org
SUMMARY:Guffey Community Screening!!!
DESCRIPTION:
URL:https://www.parkparents.org/event/guffey-community-screening/
LOCATION:CO
CATEGORIES:Lake George,South Park
END:VEVENT
END:VCALENDAR