BEGIN:VCALENDAR
VERSION:2.0
PRODID:-//Park Parents Family Resource Hub - ECPv6.15.20//NONSGML v1.0//EN
CALSCALE:GREGORIAN
METHOD:PUBLISH
X-WR-CALNAME:Park Parents Family Resource Hub
X-ORIGINAL-URL:https://www.parkparents.org
X-WR-CALDESC:Events for Park Parents Family Resource Hub
REFRESH-INTERVAL;VALUE=DURATION:PT1H
X-Robots-Tag:noindex
X-PUBLISHED-TTL:PT1H
BEGIN:VTIMEZONE
TZID:UTC
BEGIN:STANDARD
TZOFFSETFROM:+0000
TZOFFSETTO:+0000
TZNAME:UTC
DTSTART:20270101T000000
END:STANDARD
END:VTIMEZONE
BEGIN:VEVENT
DTSTART;TZID=UTC:20280605T110000
DTEND;TZID=UTC:20280605T120000
DTSTAMP:20260420T175246
CREATED:20250825T190527Z
LAST-MODIFIED:20250825T190527Z
UID:10000583-1843815600-1843819200@www.parkparents.org
SUMMARY:Lego Time
DESCRIPTION:Get ready for Library LegoTime! Join us in the community room for a fun and creative session where kids ages 6-12 can build\, design\, and let their imaginations run wild with Lego bricks.
URL:https://www.parkparents.org/event/lego-time/2028-06-05/
LOCATION:Bailey Library\, 350 Bulldogger Rd\, Bailey\, CO\, 80421\, United States
CATEGORIES:Bailey
END:VEVENT
BEGIN:VEVENT
DTSTART;TZID=UTC:20280605T110000
DTEND;TZID=UTC:20280605T120000
DTSTAMP:20260420T175246
CREATED:20250825T191311Z
LAST-MODIFIED:20250825T191311Z
UID:10001108-1843815600-1843819200@www.parkparents.org
SUMMARY:Story Time
DESCRIPTION:Join us for Storytime\, a fun and interactive session for children ages 0-5! Enjoy stories and playtime followed by a simple\, age-appropriate craft to spark creativity. It’s a perfect way for little ones to explore the world of books and express themselves through art. See you at the library!
URL:https://www.parkparents.org/event/story-time-2/2028-06-05/
LOCATION:Bailey Library\, 350 Bulldogger Rd\, Bailey\, CO\, 80421\, United States
CATEGORIES:Bailey
END:VEVENT
BEGIN:VEVENT
DTSTART;TZID=UTC:20280612T110000
DTEND;TZID=UTC:20280612T120000
DTSTAMP:20260420T175246
CREATED:20250825T190527Z
LAST-MODIFIED:20250825T190527Z
UID:10000584-1844420400-1844424000@www.parkparents.org
SUMMARY:Lego Time
DESCRIPTION:Get ready for Library LegoTime! Join us in the community room for a fun and creative session where kids ages 6-12 can build\, design\, and let their imaginations run wild with Lego bricks.
URL:https://www.parkparents.org/event/lego-time/2028-06-12/
LOCATION:Bailey Library\, 350 Bulldogger Rd\, Bailey\, CO\, 80421\, United States
CATEGORIES:Bailey
END:VEVENT
BEGIN:VEVENT
DTSTART;TZID=UTC:20280612T110000
DTEND;TZID=UTC:20280612T120000
DTSTAMP:20260420T175246
CREATED:20250825T191311Z
LAST-MODIFIED:20250825T191311Z
UID:10001109-1844420400-1844424000@www.parkparents.org
SUMMARY:Story Time
DESCRIPTION:Join us for Storytime\, a fun and interactive session for children ages 0-5! Enjoy stories and playtime followed by a simple\, age-appropriate craft to spark creativity. It’s a perfect way for little ones to explore the world of books and express themselves through art. See you at the library!
URL:https://www.parkparents.org/event/story-time-2/2028-06-12/
LOCATION:Bailey Library\, 350 Bulldogger Rd\, Bailey\, CO\, 80421\, United States
CATEGORIES:Bailey
END:VEVENT
BEGIN:VEVENT
DTSTART;TZID=UTC:20280619T110000
DTEND;TZID=UTC:20280619T120000
DTSTAMP:20260420T175246
CREATED:20250825T190527Z
LAST-MODIFIED:20250825T190527Z
UID:10000585-1845025200-1845028800@www.parkparents.org
SUMMARY:Lego Time
DESCRIPTION:Get ready for Library LegoTime! Join us in the community room for a fun and creative session where kids ages 6-12 can build\, design\, and let their imaginations run wild with Lego bricks.
URL:https://www.parkparents.org/event/lego-time/2028-06-19/
LOCATION:Bailey Library\, 350 Bulldogger Rd\, Bailey\, CO\, 80421\, United States
CATEGORIES:Bailey
END:VEVENT
BEGIN:VEVENT
DTSTART;TZID=UTC:20280619T110000
DTEND;TZID=UTC:20280619T120000
DTSTAMP:20260420T175246
CREATED:20250825T191311Z
LAST-MODIFIED:20250825T191311Z
UID:10001110-1845025200-1845028800@www.parkparents.org
SUMMARY:Story Time
DESCRIPTION:Join us for Storytime\, a fun and interactive session for children ages 0-5! Enjoy stories and playtime followed by a simple\, age-appropriate craft to spark creativity. It’s a perfect way for little ones to explore the world of books and express themselves through art. See you at the library!
URL:https://www.parkparents.org/event/story-time-2/2028-06-19/
LOCATION:Bailey Library\, 350 Bulldogger Rd\, Bailey\, CO\, 80421\, United States
CATEGORIES:Bailey
END:VEVENT
BEGIN:VEVENT
DTSTART;TZID=UTC:20280626T110000
DTEND;TZID=UTC:20280626T120000
DTSTAMP:20260420T175246
CREATED:20250825T190527Z
LAST-MODIFIED:20250825T190527Z
UID:10000586-1845630000-1845633600@www.parkparents.org
SUMMARY:Lego Time
DESCRIPTION:Get ready for Library LegoTime! Join us in the community room for a fun and creative session where kids ages 6-12 can build\, design\, and let their imaginations run wild with Lego bricks.
URL:https://www.parkparents.org/event/lego-time/2028-06-26/
LOCATION:Bailey Library\, 350 Bulldogger Rd\, Bailey\, CO\, 80421\, United States
CATEGORIES:Bailey
END:VEVENT
BEGIN:VEVENT
DTSTART;TZID=UTC:20280626T110000
DTEND;TZID=UTC:20280626T120000
DTSTAMP:20260420T175246
CREATED:20250825T191311Z
LAST-MODIFIED:20250825T191311Z
UID:10001111-1845630000-1845633600@www.parkparents.org
SUMMARY:Story Time
DESCRIPTION:Join us for Storytime\, a fun and interactive session for children ages 0-5! Enjoy stories and playtime followed by a simple\, age-appropriate craft to spark creativity. It’s a perfect way for little ones to explore the world of books and express themselves through art. See you at the library!
URL:https://www.parkparents.org/event/story-time-2/2028-06-26/
LOCATION:Bailey Library\, 350 Bulldogger Rd\, Bailey\, CO\, 80421\, United States
CATEGORIES:Bailey
END:VEVENT
BEGIN:VEVENT
DTSTART;TZID=UTC:20280703T110000
DTEND;TZID=UTC:20280703T120000
DTSTAMP:20260420T175246
CREATED:20250825T190527Z
LAST-MODIFIED:20250825T190527Z
UID:10000587-1846234800-1846238400@www.parkparents.org
SUMMARY:Lego Time
DESCRIPTION:Get ready for Library LegoTime! Join us in the community room for a fun and creative session where kids ages 6-12 can build\, design\, and let their imaginations run wild with Lego bricks.
URL:https://www.parkparents.org/event/lego-time/2028-07-03/
LOCATION:Bailey Library\, 350 Bulldogger Rd\, Bailey\, CO\, 80421\, United States
CATEGORIES:Bailey
END:VEVENT
BEGIN:VEVENT
DTSTART;TZID=UTC:20280703T110000
DTEND;TZID=UTC:20280703T120000
DTSTAMP:20260420T175246
CREATED:20250825T191311Z
LAST-MODIFIED:20250825T191311Z
UID:10001112-1846234800-1846238400@www.parkparents.org
SUMMARY:Story Time
DESCRIPTION:Join us for Storytime\, a fun and interactive session for children ages 0-5! Enjoy stories and playtime followed by a simple\, age-appropriate craft to spark creativity. It’s a perfect way for little ones to explore the world of books and express themselves through art. See you at the library!
URL:https://www.parkparents.org/event/story-time-2/2028-07-03/
LOCATION:Bailey Library\, 350 Bulldogger Rd\, Bailey\, CO\, 80421\, United States
CATEGORIES:Bailey
END:VEVENT
BEGIN:VEVENT
DTSTART;TZID=UTC:20280706T110000
DTEND;TZID=UTC:20280706T140000
DTSTAMP:20260420T175246
CREATED:20250825T190652Z
LAST-MODIFIED:20250825T192129Z
UID:10001257-1846494000-1846504800@www.parkparents.org
SUMMARY:Rocky Mountain Rural Health Free Screening
DESCRIPTION:Rocky Mountain Rural Health will be at Bailey Library on Thursday\, March 6th from 11:00AM 2:00 PM to provide outreach for uninsured individuals in Park County. They’ll be sharing information about their Community Medical Assistance Program\, which helps those who are uninsured or underinsured access medical care and prescriptions. \nIf you or someone you know could benefit from these services\, be sure to stop by! For more details\, visit Rocky Mountain Rural Health website or call (719) 836-2169\n.
URL:https://www.parkparents.org/event/story-time/2028-07-06/
LOCATION:Bailey Library\, 350 Bulldogger Rd\, Bailey\, CO\, 80421\, United States
CATEGORIES:Bailey
END:VEVENT
BEGIN:VEVENT
DTSTART;TZID=UTC:20280710T110000
DTEND;TZID=UTC:20280710T120000
DTSTAMP:20260420T175246
CREATED:20250825T190527Z
LAST-MODIFIED:20250825T190527Z
UID:10000588-1846839600-1846843200@www.parkparents.org
SUMMARY:Lego Time
DESCRIPTION:Get ready for Library LegoTime! Join us in the community room for a fun and creative session where kids ages 6-12 can build\, design\, and let their imaginations run wild with Lego bricks.
URL:https://www.parkparents.org/event/lego-time/2028-07-10/
LOCATION:Bailey Library\, 350 Bulldogger Rd\, Bailey\, CO\, 80421\, United States
CATEGORIES:Bailey
END:VEVENT
BEGIN:VEVENT
DTSTART;TZID=UTC:20280710T110000
DTEND;TZID=UTC:20280710T120000
DTSTAMP:20260420T175246
CREATED:20250825T191311Z
LAST-MODIFIED:20250825T191311Z
UID:10001113-1846839600-1846843200@www.parkparents.org
SUMMARY:Story Time
DESCRIPTION:Join us for Storytime\, a fun and interactive session for children ages 0-5! Enjoy stories and playtime followed by a simple\, age-appropriate craft to spark creativity. It’s a perfect way for little ones to explore the world of books and express themselves through art. See you at the library!
URL:https://www.parkparents.org/event/story-time-2/2028-07-10/
LOCATION:Bailey Library\, 350 Bulldogger Rd\, Bailey\, CO\, 80421\, United States
CATEGORIES:Bailey
END:VEVENT
BEGIN:VEVENT
DTSTART;TZID=UTC:20280717T110000
DTEND;TZID=UTC:20280717T120000
DTSTAMP:20260420T175246
CREATED:20250825T190527Z
LAST-MODIFIED:20250825T190527Z
UID:10000589-1847444400-1847448000@www.parkparents.org
SUMMARY:Lego Time
DESCRIPTION:Get ready for Library LegoTime! Join us in the community room for a fun and creative session where kids ages 6-12 can build\, design\, and let their imaginations run wild with Lego bricks.
URL:https://www.parkparents.org/event/lego-time/2028-07-17/
LOCATION:Bailey Library\, 350 Bulldogger Rd\, Bailey\, CO\, 80421\, United States
CATEGORIES:Bailey
END:VEVENT
BEGIN:VEVENT
DTSTART;TZID=UTC:20280717T110000
DTEND;TZID=UTC:20280717T120000
DTSTAMP:20260420T175246
CREATED:20250825T191311Z
LAST-MODIFIED:20250825T191311Z
UID:10001114-1847444400-1847448000@www.parkparents.org
SUMMARY:Story Time
DESCRIPTION:Join us for Storytime\, a fun and interactive session for children ages 0-5! Enjoy stories and playtime followed by a simple\, age-appropriate craft to spark creativity. It’s a perfect way for little ones to explore the world of books and express themselves through art. See you at the library!
URL:https://www.parkparents.org/event/story-time-2/2028-07-17/
LOCATION:Bailey Library\, 350 Bulldogger Rd\, Bailey\, CO\, 80421\, United States
CATEGORIES:Bailey
END:VEVENT
BEGIN:VEVENT
DTSTART;TZID=UTC:20280724T110000
DTEND;TZID=UTC:20280724T120000
DTSTAMP:20260420T175246
CREATED:20250825T190527Z
LAST-MODIFIED:20250825T190527Z
UID:10000590-1848049200-1848052800@www.parkparents.org
SUMMARY:Lego Time
DESCRIPTION:Get ready for Library LegoTime! Join us in the community room for a fun and creative session where kids ages 6-12 can build\, design\, and let their imaginations run wild with Lego bricks.
URL:https://www.parkparents.org/event/lego-time/2028-07-24/
LOCATION:Bailey Library\, 350 Bulldogger Rd\, Bailey\, CO\, 80421\, United States
CATEGORIES:Bailey
END:VEVENT
BEGIN:VEVENT
DTSTART;TZID=UTC:20280724T110000
DTEND;TZID=UTC:20280724T120000
DTSTAMP:20260420T175246
CREATED:20250825T191311Z
LAST-MODIFIED:20250825T191311Z
UID:10001115-1848049200-1848052800@www.parkparents.org
SUMMARY:Story Time
DESCRIPTION:Join us for Storytime\, a fun and interactive session for children ages 0-5! Enjoy stories and playtime followed by a simple\, age-appropriate craft to spark creativity. It’s a perfect way for little ones to explore the world of books and express themselves through art. See you at the library!
URL:https://www.parkparents.org/event/story-time-2/2028-07-24/
LOCATION:Bailey Library\, 350 Bulldogger Rd\, Bailey\, CO\, 80421\, United States
CATEGORIES:Bailey
END:VEVENT
BEGIN:VEVENT
DTSTART;TZID=UTC:20280731T110000
DTEND;TZID=UTC:20280731T120000
DTSTAMP:20260420T175246
CREATED:20250825T190527Z
LAST-MODIFIED:20250825T190527Z
UID:10000591-1848654000-1848657600@www.parkparents.org
SUMMARY:Lego Time
DESCRIPTION:Get ready for Library LegoTime! Join us in the community room for a fun and creative session where kids ages 6-12 can build\, design\, and let their imaginations run wild with Lego bricks.
URL:https://www.parkparents.org/event/lego-time/2028-07-31/
LOCATION:Bailey Library\, 350 Bulldogger Rd\, Bailey\, CO\, 80421\, United States
CATEGORIES:Bailey
END:VEVENT
BEGIN:VEVENT
DTSTART;TZID=UTC:20280731T110000
DTEND;TZID=UTC:20280731T120000
DTSTAMP:20260420T175246
CREATED:20250825T191311Z
LAST-MODIFIED:20250825T191311Z
UID:10001116-1848654000-1848657600@www.parkparents.org
SUMMARY:Story Time
DESCRIPTION:Join us for Storytime\, a fun and interactive session for children ages 0-5! Enjoy stories and playtime followed by a simple\, age-appropriate craft to spark creativity. It’s a perfect way for little ones to explore the world of books and express themselves through art. See you at the library!
URL:https://www.parkparents.org/event/story-time-2/2028-07-31/
LOCATION:Bailey Library\, 350 Bulldogger Rd\, Bailey\, CO\, 80421\, United States
CATEGORIES:Bailey
END:VEVENT
BEGIN:VEVENT
DTSTART;TZID=UTC:20280803T110000
DTEND;TZID=UTC:20280803T140000
DTSTAMP:20260420T175246
CREATED:20250825T190652Z
LAST-MODIFIED:20250825T192129Z
UID:10001258-1848913200-1848924000@www.parkparents.org
SUMMARY:Rocky Mountain Rural Health Free Screening
DESCRIPTION:Rocky Mountain Rural Health will be at Bailey Library on Thursday\, March 6th from 11:00AM 2:00 PM to provide outreach for uninsured individuals in Park County. They’ll be sharing information about their Community Medical Assistance Program\, which helps those who are uninsured or underinsured access medical care and prescriptions. \nIf you or someone you know could benefit from these services\, be sure to stop by! For more details\, visit Rocky Mountain Rural Health website or call (719) 836-2169\n.
URL:https://www.parkparents.org/event/story-time/2028-08-03/
LOCATION:Bailey Library\, 350 Bulldogger Rd\, Bailey\, CO\, 80421\, United States
CATEGORIES:Bailey
END:VEVENT
BEGIN:VEVENT
DTSTART;TZID=UTC:20280807T110000
DTEND;TZID=UTC:20280807T120000
DTSTAMP:20260420T175246
CREATED:20250825T190527Z
LAST-MODIFIED:20250825T190527Z
UID:10000592-1849258800-1849262400@www.parkparents.org
SUMMARY:Lego Time
DESCRIPTION:Get ready for Library LegoTime! Join us in the community room for a fun and creative session where kids ages 6-12 can build\, design\, and let their imaginations run wild with Lego bricks.
URL:https://www.parkparents.org/event/lego-time/2028-08-07/
LOCATION:Bailey Library\, 350 Bulldogger Rd\, Bailey\, CO\, 80421\, United States
CATEGORIES:Bailey
END:VEVENT
BEGIN:VEVENT
DTSTART;TZID=UTC:20280807T110000
DTEND;TZID=UTC:20280807T120000
DTSTAMP:20260420T175246
CREATED:20250825T191311Z
LAST-MODIFIED:20250825T191311Z
UID:10001117-1849258800-1849262400@www.parkparents.org
SUMMARY:Story Time
DESCRIPTION:Join us for Storytime\, a fun and interactive session for children ages 0-5! Enjoy stories and playtime followed by a simple\, age-appropriate craft to spark creativity. It’s a perfect way for little ones to explore the world of books and express themselves through art. See you at the library!
URL:https://www.parkparents.org/event/story-time-2/2028-08-07/
LOCATION:Bailey Library\, 350 Bulldogger Rd\, Bailey\, CO\, 80421\, United States
CATEGORIES:Bailey
END:VEVENT
BEGIN:VEVENT
DTSTART;TZID=UTC:20280814T110000
DTEND;TZID=UTC:20280814T120000
DTSTAMP:20260420T175246
CREATED:20250825T190527Z
LAST-MODIFIED:20250825T190527Z
UID:10000593-1849863600-1849867200@www.parkparents.org
SUMMARY:Lego Time
DESCRIPTION:Get ready for Library LegoTime! Join us in the community room for a fun and creative session where kids ages 6-12 can build\, design\, and let their imaginations run wild with Lego bricks.
URL:https://www.parkparents.org/event/lego-time/2028-08-14/
LOCATION:Bailey Library\, 350 Bulldogger Rd\, Bailey\, CO\, 80421\, United States
CATEGORIES:Bailey
END:VEVENT
BEGIN:VEVENT
DTSTART;TZID=UTC:20280814T110000
DTEND;TZID=UTC:20280814T120000
DTSTAMP:20260420T175246
CREATED:20250825T191311Z
LAST-MODIFIED:20250825T191311Z
UID:10001118-1849863600-1849867200@www.parkparents.org
SUMMARY:Story Time
DESCRIPTION:Join us for Storytime\, a fun and interactive session for children ages 0-5! Enjoy stories and playtime followed by a simple\, age-appropriate craft to spark creativity. It’s a perfect way for little ones to explore the world of books and express themselves through art. See you at the library!
URL:https://www.parkparents.org/event/story-time-2/2028-08-14/
LOCATION:Bailey Library\, 350 Bulldogger Rd\, Bailey\, CO\, 80421\, United States
CATEGORIES:Bailey
END:VEVENT
BEGIN:VEVENT
DTSTART;TZID=UTC:20280821T110000
DTEND;TZID=UTC:20280821T120000
DTSTAMP:20260420T175246
CREATED:20250825T190527Z
LAST-MODIFIED:20250825T190527Z
UID:10000594-1850468400-1850472000@www.parkparents.org
SUMMARY:Lego Time
DESCRIPTION:Get ready for Library LegoTime! Join us in the community room for a fun and creative session where kids ages 6-12 can build\, design\, and let their imaginations run wild with Lego bricks.
URL:https://www.parkparents.org/event/lego-time/2028-08-21/
LOCATION:Bailey Library\, 350 Bulldogger Rd\, Bailey\, CO\, 80421\, United States
CATEGORIES:Bailey
END:VEVENT
BEGIN:VEVENT
DTSTART;TZID=UTC:20280821T110000
DTEND;TZID=UTC:20280821T120000
DTSTAMP:20260420T175246
CREATED:20250825T191311Z
LAST-MODIFIED:20250825T191311Z
UID:10001119-1850468400-1850472000@www.parkparents.org
SUMMARY:Story Time
DESCRIPTION:Join us for Storytime\, a fun and interactive session for children ages 0-5! Enjoy stories and playtime followed by a simple\, age-appropriate craft to spark creativity. It’s a perfect way for little ones to explore the world of books and express themselves through art. See you at the library!
URL:https://www.parkparents.org/event/story-time-2/2028-08-21/
LOCATION:Bailey Library\, 350 Bulldogger Rd\, Bailey\, CO\, 80421\, United States
CATEGORIES:Bailey
END:VEVENT
BEGIN:VEVENT
DTSTART;TZID=UTC:20280828T110000
DTEND;TZID=UTC:20280828T120000
DTSTAMP:20260420T175246
CREATED:20250825T190527Z
LAST-MODIFIED:20250825T190527Z
UID:10000595-1851073200-1851076800@www.parkparents.org
SUMMARY:Lego Time
DESCRIPTION:Get ready for Library LegoTime! Join us in the community room for a fun and creative session where kids ages 6-12 can build\, design\, and let their imaginations run wild with Lego bricks.
URL:https://www.parkparents.org/event/lego-time/2028-08-28/
LOCATION:Bailey Library\, 350 Bulldogger Rd\, Bailey\, CO\, 80421\, United States
CATEGORIES:Bailey
END:VEVENT
BEGIN:VEVENT
DTSTART;TZID=UTC:20280828T110000
DTEND;TZID=UTC:20280828T120000
DTSTAMP:20260420T175246
CREATED:20250825T191311Z
LAST-MODIFIED:20250825T191311Z
UID:10001120-1851073200-1851076800@www.parkparents.org
SUMMARY:Story Time
DESCRIPTION:Join us for Storytime\, a fun and interactive session for children ages 0-5! Enjoy stories and playtime followed by a simple\, age-appropriate craft to spark creativity. It’s a perfect way for little ones to explore the world of books and express themselves through art. See you at the library!
URL:https://www.parkparents.org/event/story-time-2/2028-08-28/
LOCATION:Bailey Library\, 350 Bulldogger Rd\, Bailey\, CO\, 80421\, United States
CATEGORIES:Bailey
END:VEVENT
BEGIN:VEVENT
DTSTART;TZID=UTC:20280904T110000
DTEND;TZID=UTC:20280904T120000
DTSTAMP:20260420T175246
CREATED:20250825T190527Z
LAST-MODIFIED:20250825T190527Z
UID:10000596-1851678000-1851681600@www.parkparents.org
SUMMARY:Lego Time
DESCRIPTION:Get ready for Library LegoTime! Join us in the community room for a fun and creative session where kids ages 6-12 can build\, design\, and let their imaginations run wild with Lego bricks.
URL:https://www.parkparents.org/event/lego-time/2028-09-04/
LOCATION:Bailey Library\, 350 Bulldogger Rd\, Bailey\, CO\, 80421\, United States
CATEGORIES:Bailey
END:VEVENT
BEGIN:VEVENT
DTSTART;TZID=UTC:20280904T110000
DTEND;TZID=UTC:20280904T120000
DTSTAMP:20260420T175246
CREATED:20250825T191311Z
LAST-MODIFIED:20250825T191311Z
UID:10001121-1851678000-1851681600@www.parkparents.org
SUMMARY:Story Time
DESCRIPTION:Join us for Storytime\, a fun and interactive session for children ages 0-5! Enjoy stories and playtime followed by a simple\, age-appropriate craft to spark creativity. It’s a perfect way for little ones to explore the world of books and express themselves through art. See you at the library!
URL:https://www.parkparents.org/event/story-time-2/2028-09-04/
LOCATION:Bailey Library\, 350 Bulldogger Rd\, Bailey\, CO\, 80421\, United States
CATEGORIES:Bailey
END:VEVENT
END:VCALENDAR