BEGIN:VCALENDAR
VERSION:2.0
PRODID:-//Park Parents Family Resource Hub - ECPv6.15.20//NONSGML v1.0//EN
CALSCALE:GREGORIAN
METHOD:PUBLISH
X-WR-CALNAME:Park Parents Family Resource Hub
X-ORIGINAL-URL:https://www.parkparents.org
X-WR-CALDESC:Events for Park Parents Family Resource Hub
REFRESH-INTERVAL;VALUE=DURATION:PT1H
X-Robots-Tag:noindex
X-PUBLISHED-TTL:PT1H
BEGIN:VTIMEZONE
TZID:UTC
BEGIN:STANDARD
TZOFFSETFROM:+0000
TZOFFSETTO:+0000
TZNAME:UTC
DTSTART:20280101T000000
END:STANDARD
END:VTIMEZONE
BEGIN:VEVENT
DTSTART;TZID=UTC:20290115T110000
DTEND;TZID=UTC:20290115T120000
DTSTAMP:20260421T025400
CREATED:20250825T191311Z
LAST-MODIFIED:20250825T191311Z
UID:10001140-1863169200-1863172800@www.parkparents.org
SUMMARY:Story Time
DESCRIPTION:Join us for Storytime\, a fun and interactive session for children ages 0-5! Enjoy stories and playtime followed by a simple\, age-appropriate craft to spark creativity. It’s a perfect way for little ones to explore the world of books and express themselves through art. See you at the library!
URL:https://www.parkparents.org/event/story-time-2/2029-01-15/
LOCATION:Bailey Library\, 350 Bulldogger Rd\, Bailey\, CO\, 80421\, United States
CATEGORIES:Bailey
END:VEVENT
BEGIN:VEVENT
DTSTART;TZID=UTC:20290122T110000
DTEND;TZID=UTC:20290122T120000
DTSTAMP:20260421T025400
CREATED:20250825T190527Z
LAST-MODIFIED:20250825T190527Z
UID:10000616-1863774000-1863777600@www.parkparents.org
SUMMARY:Lego Time
DESCRIPTION:Get ready for Library LegoTime! Join us in the community room for a fun and creative session where kids ages 6-12 can build\, design\, and let their imaginations run wild with Lego bricks.
URL:https://www.parkparents.org/event/lego-time/2029-01-22/
LOCATION:Bailey Library\, 350 Bulldogger Rd\, Bailey\, CO\, 80421\, United States
CATEGORIES:Bailey
END:VEVENT
BEGIN:VEVENT
DTSTART;TZID=UTC:20290122T110000
DTEND;TZID=UTC:20290122T120000
DTSTAMP:20260421T025400
CREATED:20250825T191311Z
LAST-MODIFIED:20250825T191311Z
UID:10001141-1863774000-1863777600@www.parkparents.org
SUMMARY:Story Time
DESCRIPTION:Join us for Storytime\, a fun and interactive session for children ages 0-5! Enjoy stories and playtime followed by a simple\, age-appropriate craft to spark creativity. It’s a perfect way for little ones to explore the world of books and express themselves through art. See you at the library!
URL:https://www.parkparents.org/event/story-time-2/2029-01-22/
LOCATION:Bailey Library\, 350 Bulldogger Rd\, Bailey\, CO\, 80421\, United States
CATEGORIES:Bailey
END:VEVENT
BEGIN:VEVENT
DTSTART;TZID=UTC:20290129T110000
DTEND;TZID=UTC:20290129T120000
DTSTAMP:20260421T025401
CREATED:20250825T190527Z
LAST-MODIFIED:20250825T190527Z
UID:10000617-1864378800-1864382400@www.parkparents.org
SUMMARY:Lego Time
DESCRIPTION:Get ready for Library LegoTime! Join us in the community room for a fun and creative session where kids ages 6-12 can build\, design\, and let their imaginations run wild with Lego bricks.
URL:https://www.parkparents.org/event/lego-time/2029-01-29/
LOCATION:Bailey Library\, 350 Bulldogger Rd\, Bailey\, CO\, 80421\, United States
CATEGORIES:Bailey
END:VEVENT
BEGIN:VEVENT
DTSTART;TZID=UTC:20290129T110000
DTEND;TZID=UTC:20290129T120000
DTSTAMP:20260421T025401
CREATED:20250825T191311Z
LAST-MODIFIED:20250825T191311Z
UID:10001142-1864378800-1864382400@www.parkparents.org
SUMMARY:Story Time
DESCRIPTION:Join us for Storytime\, a fun and interactive session for children ages 0-5! Enjoy stories and playtime followed by a simple\, age-appropriate craft to spark creativity. It’s a perfect way for little ones to explore the world of books and express themselves through art. See you at the library!
URL:https://www.parkparents.org/event/story-time-2/2029-01-29/
LOCATION:Bailey Library\, 350 Bulldogger Rd\, Bailey\, CO\, 80421\, United States
CATEGORIES:Bailey
END:VEVENT
BEGIN:VEVENT
DTSTART;TZID=UTC:20290201T110000
DTEND;TZID=UTC:20290201T140000
DTSTAMP:20260421T025401
CREATED:20250825T190652Z
LAST-MODIFIED:20250825T192129Z
UID:10001264-1864638000-1864648800@www.parkparents.org
SUMMARY:Rocky Mountain Rural Health Free Screening
DESCRIPTION:Rocky Mountain Rural Health will be at Bailey Library on Thursday\, March 6th from 11:00AM 2:00 PM to provide outreach for uninsured individuals in Park County. They’ll be sharing information about their Community Medical Assistance Program\, which helps those who are uninsured or underinsured access medical care and prescriptions. \nIf you or someone you know could benefit from these services\, be sure to stop by! For more details\, visit Rocky Mountain Rural Health website or call (719) 836-2169\n.
URL:https://www.parkparents.org/event/story-time/2029-02-01/
LOCATION:Bailey Library\, 350 Bulldogger Rd\, Bailey\, CO\, 80421\, United States
CATEGORIES:Bailey
END:VEVENT
BEGIN:VEVENT
DTSTART;TZID=UTC:20290205T110000
DTEND;TZID=UTC:20290205T120000
DTSTAMP:20260421T025401
CREATED:20250825T190527Z
LAST-MODIFIED:20250825T190527Z
UID:10000618-1864983600-1864987200@www.parkparents.org
SUMMARY:Lego Time
DESCRIPTION:Get ready for Library LegoTime! Join us in the community room for a fun and creative session where kids ages 6-12 can build\, design\, and let their imaginations run wild with Lego bricks.
URL:https://www.parkparents.org/event/lego-time/2029-02-05/
LOCATION:Bailey Library\, 350 Bulldogger Rd\, Bailey\, CO\, 80421\, United States
CATEGORIES:Bailey
END:VEVENT
BEGIN:VEVENT
DTSTART;TZID=UTC:20290205T110000
DTEND;TZID=UTC:20290205T120000
DTSTAMP:20260421T025401
CREATED:20250825T191311Z
LAST-MODIFIED:20250825T191311Z
UID:10001143-1864983600-1864987200@www.parkparents.org
SUMMARY:Story Time
DESCRIPTION:Join us for Storytime\, a fun and interactive session for children ages 0-5! Enjoy stories and playtime followed by a simple\, age-appropriate craft to spark creativity. It’s a perfect way for little ones to explore the world of books and express themselves through art. See you at the library!
URL:https://www.parkparents.org/event/story-time-2/2029-02-05/
LOCATION:Bailey Library\, 350 Bulldogger Rd\, Bailey\, CO\, 80421\, United States
CATEGORIES:Bailey
END:VEVENT
BEGIN:VEVENT
DTSTART;TZID=UTC:20290212T110000
DTEND;TZID=UTC:20290212T120000
DTSTAMP:20260421T025401
CREATED:20250825T190527Z
LAST-MODIFIED:20250825T190527Z
UID:10000619-1865588400-1865592000@www.parkparents.org
SUMMARY:Lego Time
DESCRIPTION:Get ready for Library LegoTime! Join us in the community room for a fun and creative session where kids ages 6-12 can build\, design\, and let their imaginations run wild with Lego bricks.
URL:https://www.parkparents.org/event/lego-time/2029-02-12/
LOCATION:Bailey Library\, 350 Bulldogger Rd\, Bailey\, CO\, 80421\, United States
CATEGORIES:Bailey
END:VEVENT
BEGIN:VEVENT
DTSTART;TZID=UTC:20290212T110000
DTEND;TZID=UTC:20290212T120000
DTSTAMP:20260421T025401
CREATED:20250825T191311Z
LAST-MODIFIED:20250825T191311Z
UID:10001144-1865588400-1865592000@www.parkparents.org
SUMMARY:Story Time
DESCRIPTION:Join us for Storytime\, a fun and interactive session for children ages 0-5! Enjoy stories and playtime followed by a simple\, age-appropriate craft to spark creativity. It’s a perfect way for little ones to explore the world of books and express themselves through art. See you at the library!
URL:https://www.parkparents.org/event/story-time-2/2029-02-12/
LOCATION:Bailey Library\, 350 Bulldogger Rd\, Bailey\, CO\, 80421\, United States
CATEGORIES:Bailey
END:VEVENT
BEGIN:VEVENT
DTSTART;TZID=UTC:20290219T110000
DTEND;TZID=UTC:20290219T120000
DTSTAMP:20260421T025401
CREATED:20250825T190527Z
LAST-MODIFIED:20250825T190527Z
UID:10000620-1866193200-1866196800@www.parkparents.org
SUMMARY:Lego Time
DESCRIPTION:Get ready for Library LegoTime! Join us in the community room for a fun and creative session where kids ages 6-12 can build\, design\, and let their imaginations run wild with Lego bricks.
URL:https://www.parkparents.org/event/lego-time/2029-02-19/
LOCATION:Bailey Library\, 350 Bulldogger Rd\, Bailey\, CO\, 80421\, United States
CATEGORIES:Bailey
END:VEVENT
BEGIN:VEVENT
DTSTART;TZID=UTC:20290219T110000
DTEND;TZID=UTC:20290219T120000
DTSTAMP:20260421T025401
CREATED:20250825T191311Z
LAST-MODIFIED:20250825T191311Z
UID:10001145-1866193200-1866196800@www.parkparents.org
SUMMARY:Story Time
DESCRIPTION:Join us for Storytime\, a fun and interactive session for children ages 0-5! Enjoy stories and playtime followed by a simple\, age-appropriate craft to spark creativity. It’s a perfect way for little ones to explore the world of books and express themselves through art. See you at the library!
URL:https://www.parkparents.org/event/story-time-2/2029-02-19/
LOCATION:Bailey Library\, 350 Bulldogger Rd\, Bailey\, CO\, 80421\, United States
CATEGORIES:Bailey
END:VEVENT
BEGIN:VEVENT
DTSTART;TZID=UTC:20290226T110000
DTEND;TZID=UTC:20290226T120000
DTSTAMP:20260421T025401
CREATED:20250825T190527Z
LAST-MODIFIED:20250825T190527Z
UID:10000621-1866798000-1866801600@www.parkparents.org
SUMMARY:Lego Time
DESCRIPTION:Get ready for Library LegoTime! Join us in the community room for a fun and creative session where kids ages 6-12 can build\, design\, and let their imaginations run wild with Lego bricks.
URL:https://www.parkparents.org/event/lego-time/2029-02-26/
LOCATION:Bailey Library\, 350 Bulldogger Rd\, Bailey\, CO\, 80421\, United States
CATEGORIES:Bailey
END:VEVENT
BEGIN:VEVENT
DTSTART;TZID=UTC:20290226T110000
DTEND;TZID=UTC:20290226T120000
DTSTAMP:20260421T025401
CREATED:20250825T191311Z
LAST-MODIFIED:20250825T191311Z
UID:10001146-1866798000-1866801600@www.parkparents.org
SUMMARY:Story Time
DESCRIPTION:Join us for Storytime\, a fun and interactive session for children ages 0-5! Enjoy stories and playtime followed by a simple\, age-appropriate craft to spark creativity. It’s a perfect way for little ones to explore the world of books and express themselves through art. See you at the library!
URL:https://www.parkparents.org/event/story-time-2/2029-02-26/
LOCATION:Bailey Library\, 350 Bulldogger Rd\, Bailey\, CO\, 80421\, United States
CATEGORIES:Bailey
END:VEVENT
BEGIN:VEVENT
DTSTART;TZID=UTC:20290301T110000
DTEND;TZID=UTC:20290301T140000
DTSTAMP:20260421T025401
CREATED:20250825T190652Z
LAST-MODIFIED:20250825T192129Z
UID:10001265-1867057200-1867068000@www.parkparents.org
SUMMARY:Rocky Mountain Rural Health Free Screening
DESCRIPTION:Rocky Mountain Rural Health will be at Bailey Library on Thursday\, March 6th from 11:00AM 2:00 PM to provide outreach for uninsured individuals in Park County. They’ll be sharing information about their Community Medical Assistance Program\, which helps those who are uninsured or underinsured access medical care and prescriptions. \nIf you or someone you know could benefit from these services\, be sure to stop by! For more details\, visit Rocky Mountain Rural Health website or call (719) 836-2169\n.
URL:https://www.parkparents.org/event/story-time/2029-03-01/
LOCATION:Bailey Library\, 350 Bulldogger Rd\, Bailey\, CO\, 80421\, United States
CATEGORIES:Bailey
END:VEVENT
BEGIN:VEVENT
DTSTART;TZID=UTC:20290305T110000
DTEND;TZID=UTC:20290305T120000
DTSTAMP:20260421T025401
CREATED:20250825T190527Z
LAST-MODIFIED:20250825T190527Z
UID:10000622-1867402800-1867406400@www.parkparents.org
SUMMARY:Lego Time
DESCRIPTION:Get ready for Library LegoTime! Join us in the community room for a fun and creative session where kids ages 6-12 can build\, design\, and let their imaginations run wild with Lego bricks.
URL:https://www.parkparents.org/event/lego-time/2029-03-05/
LOCATION:Bailey Library\, 350 Bulldogger Rd\, Bailey\, CO\, 80421\, United States
CATEGORIES:Bailey
END:VEVENT
BEGIN:VEVENT
DTSTART;TZID=UTC:20290305T110000
DTEND;TZID=UTC:20290305T120000
DTSTAMP:20260421T025401
CREATED:20250825T191311Z
LAST-MODIFIED:20250825T191311Z
UID:10001147-1867402800-1867406400@www.parkparents.org
SUMMARY:Story Time
DESCRIPTION:Join us for Storytime\, a fun and interactive session for children ages 0-5! Enjoy stories and playtime followed by a simple\, age-appropriate craft to spark creativity. It’s a perfect way for little ones to explore the world of books and express themselves through art. See you at the library!
URL:https://www.parkparents.org/event/story-time-2/2029-03-05/
LOCATION:Bailey Library\, 350 Bulldogger Rd\, Bailey\, CO\, 80421\, United States
CATEGORIES:Bailey
END:VEVENT
BEGIN:VEVENT
DTSTART;TZID=UTC:20290312T110000
DTEND;TZID=UTC:20290312T120000
DTSTAMP:20260421T025401
CREATED:20250825T190527Z
LAST-MODIFIED:20250825T190527Z
UID:10000623-1868007600-1868011200@www.parkparents.org
SUMMARY:Lego Time
DESCRIPTION:Get ready for Library LegoTime! Join us in the community room for a fun and creative session where kids ages 6-12 can build\, design\, and let their imaginations run wild with Lego bricks.
URL:https://www.parkparents.org/event/lego-time/2029-03-12/
LOCATION:Bailey Library\, 350 Bulldogger Rd\, Bailey\, CO\, 80421\, United States
CATEGORIES:Bailey
END:VEVENT
BEGIN:VEVENT
DTSTART;TZID=UTC:20290312T110000
DTEND;TZID=UTC:20290312T120000
DTSTAMP:20260421T025401
CREATED:20250825T191311Z
LAST-MODIFIED:20250825T191311Z
UID:10001148-1868007600-1868011200@www.parkparents.org
SUMMARY:Story Time
DESCRIPTION:Join us for Storytime\, a fun and interactive session for children ages 0-5! Enjoy stories and playtime followed by a simple\, age-appropriate craft to spark creativity. It’s a perfect way for little ones to explore the world of books and express themselves through art. See you at the library!
URL:https://www.parkparents.org/event/story-time-2/2029-03-12/
LOCATION:Bailey Library\, 350 Bulldogger Rd\, Bailey\, CO\, 80421\, United States
CATEGORIES:Bailey
END:VEVENT
BEGIN:VEVENT
DTSTART;TZID=UTC:20290319T110000
DTEND;TZID=UTC:20290319T120000
DTSTAMP:20260421T025401
CREATED:20250825T190527Z
LAST-MODIFIED:20250825T190527Z
UID:10000624-1868612400-1868616000@www.parkparents.org
SUMMARY:Lego Time
DESCRIPTION:Get ready for Library LegoTime! Join us in the community room for a fun and creative session where kids ages 6-12 can build\, design\, and let their imaginations run wild with Lego bricks.
URL:https://www.parkparents.org/event/lego-time/2029-03-19/
LOCATION:Bailey Library\, 350 Bulldogger Rd\, Bailey\, CO\, 80421\, United States
CATEGORIES:Bailey
END:VEVENT
BEGIN:VEVENT
DTSTART;TZID=UTC:20290319T110000
DTEND;TZID=UTC:20290319T120000
DTSTAMP:20260421T025401
CREATED:20250825T191311Z
LAST-MODIFIED:20250825T191311Z
UID:10001149-1868612400-1868616000@www.parkparents.org
SUMMARY:Story Time
DESCRIPTION:Join us for Storytime\, a fun and interactive session for children ages 0-5! Enjoy stories and playtime followed by a simple\, age-appropriate craft to spark creativity. It’s a perfect way for little ones to explore the world of books and express themselves through art. See you at the library!
URL:https://www.parkparents.org/event/story-time-2/2029-03-19/
LOCATION:Bailey Library\, 350 Bulldogger Rd\, Bailey\, CO\, 80421\, United States
CATEGORIES:Bailey
END:VEVENT
BEGIN:VEVENT
DTSTART;TZID=UTC:20290326T110000
DTEND;TZID=UTC:20290326T120000
DTSTAMP:20260421T025401
CREATED:20250825T190527Z
LAST-MODIFIED:20250825T190527Z
UID:10000625-1869217200-1869220800@www.parkparents.org
SUMMARY:Lego Time
DESCRIPTION:Get ready for Library LegoTime! Join us in the community room for a fun and creative session where kids ages 6-12 can build\, design\, and let their imaginations run wild with Lego bricks.
URL:https://www.parkparents.org/event/lego-time/2029-03-26/
LOCATION:Bailey Library\, 350 Bulldogger Rd\, Bailey\, CO\, 80421\, United States
CATEGORIES:Bailey
END:VEVENT
BEGIN:VEVENT
DTSTART;TZID=UTC:20290326T110000
DTEND;TZID=UTC:20290326T120000
DTSTAMP:20260421T025401
CREATED:20250825T191311Z
LAST-MODIFIED:20250825T191311Z
UID:10001150-1869217200-1869220800@www.parkparents.org
SUMMARY:Story Time
DESCRIPTION:Join us for Storytime\, a fun and interactive session for children ages 0-5! Enjoy stories and playtime followed by a simple\, age-appropriate craft to spark creativity. It’s a perfect way for little ones to explore the world of books and express themselves through art. See you at the library!
URL:https://www.parkparents.org/event/story-time-2/2029-03-26/
LOCATION:Bailey Library\, 350 Bulldogger Rd\, Bailey\, CO\, 80421\, United States
CATEGORIES:Bailey
END:VEVENT
BEGIN:VEVENT
DTSTART;TZID=UTC:20290402T110000
DTEND;TZID=UTC:20290402T120000
DTSTAMP:20260421T025401
CREATED:20250825T190527Z
LAST-MODIFIED:20250825T190527Z
UID:10000626-1869822000-1869825600@www.parkparents.org
SUMMARY:Lego Time
DESCRIPTION:Get ready for Library LegoTime! Join us in the community room for a fun and creative session where kids ages 6-12 can build\, design\, and let their imaginations run wild with Lego bricks.
URL:https://www.parkparents.org/event/lego-time/2029-04-02/
LOCATION:Bailey Library\, 350 Bulldogger Rd\, Bailey\, CO\, 80421\, United States
CATEGORIES:Bailey
END:VEVENT
BEGIN:VEVENT
DTSTART;TZID=UTC:20290402T110000
DTEND;TZID=UTC:20290402T120000
DTSTAMP:20260421T025401
CREATED:20250825T191311Z
LAST-MODIFIED:20250825T191311Z
UID:10001151-1869822000-1869825600@www.parkparents.org
SUMMARY:Story Time
DESCRIPTION:Join us for Storytime\, a fun and interactive session for children ages 0-5! Enjoy stories and playtime followed by a simple\, age-appropriate craft to spark creativity. It’s a perfect way for little ones to explore the world of books and express themselves through art. See you at the library!
URL:https://www.parkparents.org/event/story-time-2/2029-04-02/
LOCATION:Bailey Library\, 350 Bulldogger Rd\, Bailey\, CO\, 80421\, United States
CATEGORIES:Bailey
END:VEVENT
BEGIN:VEVENT
DTSTART;TZID=UTC:20290405T110000
DTEND;TZID=UTC:20290405T140000
DTSTAMP:20260421T025401
CREATED:20250825T190652Z
LAST-MODIFIED:20250825T192129Z
UID:10001266-1870081200-1870092000@www.parkparents.org
SUMMARY:Rocky Mountain Rural Health Free Screening
DESCRIPTION:Rocky Mountain Rural Health will be at Bailey Library on Thursday\, March 6th from 11:00AM 2:00 PM to provide outreach for uninsured individuals in Park County. They’ll be sharing information about their Community Medical Assistance Program\, which helps those who are uninsured or underinsured access medical care and prescriptions. \nIf you or someone you know could benefit from these services\, be sure to stop by! For more details\, visit Rocky Mountain Rural Health website or call (719) 836-2169\n.
URL:https://www.parkparents.org/event/story-time/2029-04-05/
LOCATION:Bailey Library\, 350 Bulldogger Rd\, Bailey\, CO\, 80421\, United States
CATEGORIES:Bailey
END:VEVENT
BEGIN:VEVENT
DTSTART;TZID=UTC:20290409T110000
DTEND;TZID=UTC:20290409T120000
DTSTAMP:20260421T025401
CREATED:20250825T190527Z
LAST-MODIFIED:20250825T190527Z
UID:10000627-1870426800-1870430400@www.parkparents.org
SUMMARY:Lego Time
DESCRIPTION:Get ready for Library LegoTime! Join us in the community room for a fun and creative session where kids ages 6-12 can build\, design\, and let their imaginations run wild with Lego bricks.
URL:https://www.parkparents.org/event/lego-time/2029-04-09/
LOCATION:Bailey Library\, 350 Bulldogger Rd\, Bailey\, CO\, 80421\, United States
CATEGORIES:Bailey
END:VEVENT
BEGIN:VEVENT
DTSTART;TZID=UTC:20290409T110000
DTEND;TZID=UTC:20290409T120000
DTSTAMP:20260421T025401
CREATED:20250825T191311Z
LAST-MODIFIED:20250825T191311Z
UID:10001152-1870426800-1870430400@www.parkparents.org
SUMMARY:Story Time
DESCRIPTION:Join us for Storytime\, a fun and interactive session for children ages 0-5! Enjoy stories and playtime followed by a simple\, age-appropriate craft to spark creativity. It’s a perfect way for little ones to explore the world of books and express themselves through art. See you at the library!
URL:https://www.parkparents.org/event/story-time-2/2029-04-09/
LOCATION:Bailey Library\, 350 Bulldogger Rd\, Bailey\, CO\, 80421\, United States
CATEGORIES:Bailey
END:VEVENT
BEGIN:VEVENT
DTSTART;TZID=UTC:20290416T110000
DTEND;TZID=UTC:20290416T120000
DTSTAMP:20260421T025401
CREATED:20250825T190527Z
LAST-MODIFIED:20250825T190527Z
UID:10000628-1871031600-1871035200@www.parkparents.org
SUMMARY:Lego Time
DESCRIPTION:Get ready for Library LegoTime! Join us in the community room for a fun and creative session where kids ages 6-12 can build\, design\, and let their imaginations run wild with Lego bricks.
URL:https://www.parkparents.org/event/lego-time/2029-04-16/
LOCATION:Bailey Library\, 350 Bulldogger Rd\, Bailey\, CO\, 80421\, United States
CATEGORIES:Bailey
END:VEVENT
BEGIN:VEVENT
DTSTART;TZID=UTC:20290416T110000
DTEND;TZID=UTC:20290416T120000
DTSTAMP:20260421T025401
CREATED:20250825T191311Z
LAST-MODIFIED:20250825T191311Z
UID:10001153-1871031600-1871035200@www.parkparents.org
SUMMARY:Story Time
DESCRIPTION:Join us for Storytime\, a fun and interactive session for children ages 0-5! Enjoy stories and playtime followed by a simple\, age-appropriate craft to spark creativity. It’s a perfect way for little ones to explore the world of books and express themselves through art. See you at the library!
URL:https://www.parkparents.org/event/story-time-2/2029-04-16/
LOCATION:Bailey Library\, 350 Bulldogger Rd\, Bailey\, CO\, 80421\, United States
CATEGORIES:Bailey
END:VEVENT
END:VCALENDAR