BEGIN:VCALENDAR
VERSION:2.0
PRODID:-//Park Parents Family Resource Hub - ECPv6.15.20//NONSGML v1.0//EN
CALSCALE:GREGORIAN
METHOD:PUBLISH
X-WR-CALNAME:Park Parents Family Resource Hub
X-ORIGINAL-URL:https://www.parkparents.org
X-WR-CALDESC:Events for Park Parents Family Resource Hub
REFRESH-INTERVAL;VALUE=DURATION:PT1H
X-Robots-Tag:noindex
X-PUBLISHED-TTL:PT1H
BEGIN:VTIMEZONE
TZID:UTC
BEGIN:STANDARD
TZOFFSETFROM:+0000
TZOFFSETTO:+0000
TZNAME:UTC
DTSTART:20280101T000000
END:STANDARD
END:VTIMEZONE
BEGIN:VEVENT
DTSTART;TZID=UTC:20290618T110000
DTEND;TZID=UTC:20290618T120000
DTSTAMP:20260421T092651
CREATED:20250825T190527Z
LAST-MODIFIED:20250825T190527Z
UID:10000637-1876474800-1876478400@www.parkparents.org
SUMMARY:Lego Time
DESCRIPTION:Get ready for Library LegoTime! Join us in the community room for a fun and creative session where kids ages 6-12 can build\, design\, and let their imaginations run wild with Lego bricks.
URL:https://www.parkparents.org/event/lego-time/2029-06-18/
LOCATION:Bailey Library\, 350 Bulldogger Rd\, Bailey\, CO\, 80421\, United States
CATEGORIES:Bailey
END:VEVENT
BEGIN:VEVENT
DTSTART;TZID=UTC:20290618T110000
DTEND;TZID=UTC:20290618T120000
DTSTAMP:20260421T092651
CREATED:20250825T191311Z
LAST-MODIFIED:20250825T191311Z
UID:10001162-1876474800-1876478400@www.parkparents.org
SUMMARY:Story Time
DESCRIPTION:Join us for Storytime\, a fun and interactive session for children ages 0-5! Enjoy stories and playtime followed by a simple\, age-appropriate craft to spark creativity. It’s a perfect way for little ones to explore the world of books and express themselves through art. See you at the library!
URL:https://www.parkparents.org/event/story-time-2/2029-06-18/
LOCATION:Bailey Library\, 350 Bulldogger Rd\, Bailey\, CO\, 80421\, United States
CATEGORIES:Bailey
END:VEVENT
BEGIN:VEVENT
DTSTART;TZID=UTC:20290625T110000
DTEND;TZID=UTC:20290625T120000
DTSTAMP:20260421T092651
CREATED:20250825T190527Z
LAST-MODIFIED:20250825T190527Z
UID:10000638-1877079600-1877083200@www.parkparents.org
SUMMARY:Lego Time
DESCRIPTION:Get ready for Library LegoTime! Join us in the community room for a fun and creative session where kids ages 6-12 can build\, design\, and let their imaginations run wild with Lego bricks.
URL:https://www.parkparents.org/event/lego-time/2029-06-25/
LOCATION:Bailey Library\, 350 Bulldogger Rd\, Bailey\, CO\, 80421\, United States
CATEGORIES:Bailey
END:VEVENT
BEGIN:VEVENT
DTSTART;TZID=UTC:20290625T110000
DTEND;TZID=UTC:20290625T120000
DTSTAMP:20260421T092651
CREATED:20250825T191311Z
LAST-MODIFIED:20250825T191311Z
UID:10001163-1877079600-1877083200@www.parkparents.org
SUMMARY:Story Time
DESCRIPTION:Join us for Storytime\, a fun and interactive session for children ages 0-5! Enjoy stories and playtime followed by a simple\, age-appropriate craft to spark creativity. It’s a perfect way for little ones to explore the world of books and express themselves through art. See you at the library!
URL:https://www.parkparents.org/event/story-time-2/2029-06-25/
LOCATION:Bailey Library\, 350 Bulldogger Rd\, Bailey\, CO\, 80421\, United States
CATEGORIES:Bailey
END:VEVENT
BEGIN:VEVENT
DTSTART;TZID=UTC:20290702T110000
DTEND;TZID=UTC:20290702T120000
DTSTAMP:20260421T092651
CREATED:20250825T190527Z
LAST-MODIFIED:20250825T190527Z
UID:10000639-1877684400-1877688000@www.parkparents.org
SUMMARY:Lego Time
DESCRIPTION:Get ready for Library LegoTime! Join us in the community room for a fun and creative session where kids ages 6-12 can build\, design\, and let their imaginations run wild with Lego bricks.
URL:https://www.parkparents.org/event/lego-time/2029-07-02/
LOCATION:Bailey Library\, 350 Bulldogger Rd\, Bailey\, CO\, 80421\, United States
CATEGORIES:Bailey
END:VEVENT
BEGIN:VEVENT
DTSTART;TZID=UTC:20290702T110000
DTEND;TZID=UTC:20290702T120000
DTSTAMP:20260421T092651
CREATED:20250825T191311Z
LAST-MODIFIED:20250825T191311Z
UID:10001164-1877684400-1877688000@www.parkparents.org
SUMMARY:Story Time
DESCRIPTION:Join us for Storytime\, a fun and interactive session for children ages 0-5! Enjoy stories and playtime followed by a simple\, age-appropriate craft to spark creativity. It’s a perfect way for little ones to explore the world of books and express themselves through art. See you at the library!
URL:https://www.parkparents.org/event/story-time-2/2029-07-02/
LOCATION:Bailey Library\, 350 Bulldogger Rd\, Bailey\, CO\, 80421\, United States
CATEGORIES:Bailey
END:VEVENT
BEGIN:VEVENT
DTSTART;TZID=UTC:20290705T110000
DTEND;TZID=UTC:20290705T140000
DTSTAMP:20260421T092651
CREATED:20250825T190652Z
LAST-MODIFIED:20250825T192129Z
UID:10001269-1877943600-1877954400@www.parkparents.org
SUMMARY:Rocky Mountain Rural Health Free Screening
DESCRIPTION:Rocky Mountain Rural Health will be at Bailey Library on Thursday\, March 6th from 11:00AM 2:00 PM to provide outreach for uninsured individuals in Park County. They’ll be sharing information about their Community Medical Assistance Program\, which helps those who are uninsured or underinsured access medical care and prescriptions. \nIf you or someone you know could benefit from these services\, be sure to stop by! For more details\, visit Rocky Mountain Rural Health website or call (719) 836-2169\n.
URL:https://www.parkparents.org/event/story-time/2029-07-05/
LOCATION:Bailey Library\, 350 Bulldogger Rd\, Bailey\, CO\, 80421\, United States
CATEGORIES:Bailey
END:VEVENT
BEGIN:VEVENT
DTSTART;TZID=UTC:20290709T110000
DTEND;TZID=UTC:20290709T120000
DTSTAMP:20260421T092651
CREATED:20250825T190527Z
LAST-MODIFIED:20250825T190527Z
UID:10000640-1878289200-1878292800@www.parkparents.org
SUMMARY:Lego Time
DESCRIPTION:Get ready for Library LegoTime! Join us in the community room for a fun and creative session where kids ages 6-12 can build\, design\, and let their imaginations run wild with Lego bricks.
URL:https://www.parkparents.org/event/lego-time/2029-07-09/
LOCATION:Bailey Library\, 350 Bulldogger Rd\, Bailey\, CO\, 80421\, United States
CATEGORIES:Bailey
END:VEVENT
BEGIN:VEVENT
DTSTART;TZID=UTC:20290709T110000
DTEND;TZID=UTC:20290709T120000
DTSTAMP:20260421T092651
CREATED:20250825T191311Z
LAST-MODIFIED:20250825T191311Z
UID:10001165-1878289200-1878292800@www.parkparents.org
SUMMARY:Story Time
DESCRIPTION:Join us for Storytime\, a fun and interactive session for children ages 0-5! Enjoy stories and playtime followed by a simple\, age-appropriate craft to spark creativity. It’s a perfect way for little ones to explore the world of books and express themselves through art. See you at the library!
URL:https://www.parkparents.org/event/story-time-2/2029-07-09/
LOCATION:Bailey Library\, 350 Bulldogger Rd\, Bailey\, CO\, 80421\, United States
CATEGORIES:Bailey
END:VEVENT
BEGIN:VEVENT
DTSTART;TZID=UTC:20290716T110000
DTEND;TZID=UTC:20290716T120000
DTSTAMP:20260421T092651
CREATED:20250825T190527Z
LAST-MODIFIED:20250825T190527Z
UID:10000641-1878894000-1878897600@www.parkparents.org
SUMMARY:Lego Time
DESCRIPTION:Get ready for Library LegoTime! Join us in the community room for a fun and creative session where kids ages 6-12 can build\, design\, and let their imaginations run wild with Lego bricks.
URL:https://www.parkparents.org/event/lego-time/2029-07-16/
LOCATION:Bailey Library\, 350 Bulldogger Rd\, Bailey\, CO\, 80421\, United States
CATEGORIES:Bailey
END:VEVENT
BEGIN:VEVENT
DTSTART;TZID=UTC:20290716T110000
DTEND;TZID=UTC:20290716T120000
DTSTAMP:20260421T092651
CREATED:20250825T191311Z
LAST-MODIFIED:20250825T191311Z
UID:10001166-1878894000-1878897600@www.parkparents.org
SUMMARY:Story Time
DESCRIPTION:Join us for Storytime\, a fun and interactive session for children ages 0-5! Enjoy stories and playtime followed by a simple\, age-appropriate craft to spark creativity. It’s a perfect way for little ones to explore the world of books and express themselves through art. See you at the library!
URL:https://www.parkparents.org/event/story-time-2/2029-07-16/
LOCATION:Bailey Library\, 350 Bulldogger Rd\, Bailey\, CO\, 80421\, United States
CATEGORIES:Bailey
END:VEVENT
BEGIN:VEVENT
DTSTART;TZID=UTC:20290723T110000
DTEND;TZID=UTC:20290723T120000
DTSTAMP:20260421T092651
CREATED:20250825T190527Z
LAST-MODIFIED:20250825T190527Z
UID:10000642-1879498800-1879502400@www.parkparents.org
SUMMARY:Lego Time
DESCRIPTION:Get ready for Library LegoTime! Join us in the community room for a fun and creative session where kids ages 6-12 can build\, design\, and let their imaginations run wild with Lego bricks.
URL:https://www.parkparents.org/event/lego-time/2029-07-23/
LOCATION:Bailey Library\, 350 Bulldogger Rd\, Bailey\, CO\, 80421\, United States
CATEGORIES:Bailey
END:VEVENT
BEGIN:VEVENT
DTSTART;TZID=UTC:20290723T110000
DTEND;TZID=UTC:20290723T120000
DTSTAMP:20260421T092651
CREATED:20250825T191311Z
LAST-MODIFIED:20250825T191311Z
UID:10001167-1879498800-1879502400@www.parkparents.org
SUMMARY:Story Time
DESCRIPTION:Join us for Storytime\, a fun and interactive session for children ages 0-5! Enjoy stories and playtime followed by a simple\, age-appropriate craft to spark creativity. It’s a perfect way for little ones to explore the world of books and express themselves through art. See you at the library!
URL:https://www.parkparents.org/event/story-time-2/2029-07-23/
LOCATION:Bailey Library\, 350 Bulldogger Rd\, Bailey\, CO\, 80421\, United States
CATEGORIES:Bailey
END:VEVENT
BEGIN:VEVENT
DTSTART;TZID=UTC:20290730T110000
DTEND;TZID=UTC:20290730T120000
DTSTAMP:20260421T092651
CREATED:20250825T190527Z
LAST-MODIFIED:20250825T190527Z
UID:10000643-1880103600-1880107200@www.parkparents.org
SUMMARY:Lego Time
DESCRIPTION:Get ready for Library LegoTime! Join us in the community room for a fun and creative session where kids ages 6-12 can build\, design\, and let their imaginations run wild with Lego bricks.
URL:https://www.parkparents.org/event/lego-time/2029-07-30/
LOCATION:Bailey Library\, 350 Bulldogger Rd\, Bailey\, CO\, 80421\, United States
CATEGORIES:Bailey
END:VEVENT
BEGIN:VEVENT
DTSTART;TZID=UTC:20290730T110000
DTEND;TZID=UTC:20290730T120000
DTSTAMP:20260421T092651
CREATED:20250825T191311Z
LAST-MODIFIED:20250825T191311Z
UID:10001168-1880103600-1880107200@www.parkparents.org
SUMMARY:Story Time
DESCRIPTION:Join us for Storytime\, a fun and interactive session for children ages 0-5! Enjoy stories and playtime followed by a simple\, age-appropriate craft to spark creativity. It’s a perfect way for little ones to explore the world of books and express themselves through art. See you at the library!
URL:https://www.parkparents.org/event/story-time-2/2029-07-30/
LOCATION:Bailey Library\, 350 Bulldogger Rd\, Bailey\, CO\, 80421\, United States
CATEGORIES:Bailey
END:VEVENT
BEGIN:VEVENT
DTSTART;TZID=UTC:20290802T110000
DTEND;TZID=UTC:20290802T140000
DTSTAMP:20260421T092651
CREATED:20250825T190652Z
LAST-MODIFIED:20250825T192129Z
UID:10001270-1880362800-1880373600@www.parkparents.org
SUMMARY:Rocky Mountain Rural Health Free Screening
DESCRIPTION:Rocky Mountain Rural Health will be at Bailey Library on Thursday\, March 6th from 11:00AM 2:00 PM to provide outreach for uninsured individuals in Park County. They’ll be sharing information about their Community Medical Assistance Program\, which helps those who are uninsured or underinsured access medical care and prescriptions. \nIf you or someone you know could benefit from these services\, be sure to stop by! For more details\, visit Rocky Mountain Rural Health website or call (719) 836-2169\n.
URL:https://www.parkparents.org/event/story-time/2029-08-02/
LOCATION:Bailey Library\, 350 Bulldogger Rd\, Bailey\, CO\, 80421\, United States
CATEGORIES:Bailey
END:VEVENT
BEGIN:VEVENT
DTSTART;TZID=UTC:20290806T110000
DTEND;TZID=UTC:20290806T120000
DTSTAMP:20260421T092651
CREATED:20250825T190527Z
LAST-MODIFIED:20250825T190527Z
UID:10000644-1880708400-1880712000@www.parkparents.org
SUMMARY:Lego Time
DESCRIPTION:Get ready for Library LegoTime! Join us in the community room for a fun and creative session where kids ages 6-12 can build\, design\, and let their imaginations run wild with Lego bricks.
URL:https://www.parkparents.org/event/lego-time/2029-08-06/
LOCATION:Bailey Library\, 350 Bulldogger Rd\, Bailey\, CO\, 80421\, United States
CATEGORIES:Bailey
END:VEVENT
BEGIN:VEVENT
DTSTART;TZID=UTC:20290806T110000
DTEND;TZID=UTC:20290806T120000
DTSTAMP:20260421T092651
CREATED:20250825T191311Z
LAST-MODIFIED:20250825T191311Z
UID:10001169-1880708400-1880712000@www.parkparents.org
SUMMARY:Story Time
DESCRIPTION:Join us for Storytime\, a fun and interactive session for children ages 0-5! Enjoy stories and playtime followed by a simple\, age-appropriate craft to spark creativity. It’s a perfect way for little ones to explore the world of books and express themselves through art. See you at the library!
URL:https://www.parkparents.org/event/story-time-2/2029-08-06/
LOCATION:Bailey Library\, 350 Bulldogger Rd\, Bailey\, CO\, 80421\, United States
CATEGORIES:Bailey
END:VEVENT
BEGIN:VEVENT
DTSTART;TZID=UTC:20290813T110000
DTEND;TZID=UTC:20290813T120000
DTSTAMP:20260421T092651
CREATED:20250825T190527Z
LAST-MODIFIED:20250825T190527Z
UID:10000645-1881313200-1881316800@www.parkparents.org
SUMMARY:Lego Time
DESCRIPTION:Get ready for Library LegoTime! Join us in the community room for a fun and creative session where kids ages 6-12 can build\, design\, and let their imaginations run wild with Lego bricks.
URL:https://www.parkparents.org/event/lego-time/2029-08-13/
LOCATION:Bailey Library\, 350 Bulldogger Rd\, Bailey\, CO\, 80421\, United States
CATEGORIES:Bailey
END:VEVENT
BEGIN:VEVENT
DTSTART;TZID=UTC:20290813T110000
DTEND;TZID=UTC:20290813T120000
DTSTAMP:20260421T092651
CREATED:20250825T191311Z
LAST-MODIFIED:20250825T191311Z
UID:10001170-1881313200-1881316800@www.parkparents.org
SUMMARY:Story Time
DESCRIPTION:Join us for Storytime\, a fun and interactive session for children ages 0-5! Enjoy stories and playtime followed by a simple\, age-appropriate craft to spark creativity. It’s a perfect way for little ones to explore the world of books and express themselves through art. See you at the library!
URL:https://www.parkparents.org/event/story-time-2/2029-08-13/
LOCATION:Bailey Library\, 350 Bulldogger Rd\, Bailey\, CO\, 80421\, United States
CATEGORIES:Bailey
END:VEVENT
BEGIN:VEVENT
DTSTART;TZID=UTC:20290820T110000
DTEND;TZID=UTC:20290820T120000
DTSTAMP:20260421T092651
CREATED:20250825T190527Z
LAST-MODIFIED:20250825T190527Z
UID:10000646-1881918000-1881921600@www.parkparents.org
SUMMARY:Lego Time
DESCRIPTION:Get ready for Library LegoTime! Join us in the community room for a fun and creative session where kids ages 6-12 can build\, design\, and let their imaginations run wild with Lego bricks.
URL:https://www.parkparents.org/event/lego-time/2029-08-20/
LOCATION:Bailey Library\, 350 Bulldogger Rd\, Bailey\, CO\, 80421\, United States
CATEGORIES:Bailey
END:VEVENT
BEGIN:VEVENT
DTSTART;TZID=UTC:20290820T110000
DTEND;TZID=UTC:20290820T120000
DTSTAMP:20260421T092651
CREATED:20250825T191311Z
LAST-MODIFIED:20250825T191311Z
UID:10001171-1881918000-1881921600@www.parkparents.org
SUMMARY:Story Time
DESCRIPTION:Join us for Storytime\, a fun and interactive session for children ages 0-5! Enjoy stories and playtime followed by a simple\, age-appropriate craft to spark creativity. It’s a perfect way for little ones to explore the world of books and express themselves through art. See you at the library!
URL:https://www.parkparents.org/event/story-time-2/2029-08-20/
LOCATION:Bailey Library\, 350 Bulldogger Rd\, Bailey\, CO\, 80421\, United States
CATEGORIES:Bailey
END:VEVENT
BEGIN:VEVENT
DTSTART;TZID=UTC:20290827T110000
DTEND;TZID=UTC:20290827T120000
DTSTAMP:20260421T092651
CREATED:20250825T190527Z
LAST-MODIFIED:20250825T190527Z
UID:10000647-1882522800-1882526400@www.parkparents.org
SUMMARY:Lego Time
DESCRIPTION:Get ready for Library LegoTime! Join us in the community room for a fun and creative session where kids ages 6-12 can build\, design\, and let their imaginations run wild with Lego bricks.
URL:https://www.parkparents.org/event/lego-time/2029-08-27/
LOCATION:Bailey Library\, 350 Bulldogger Rd\, Bailey\, CO\, 80421\, United States
CATEGORIES:Bailey
END:VEVENT
BEGIN:VEVENT
DTSTART;TZID=UTC:20290827T110000
DTEND;TZID=UTC:20290827T120000
DTSTAMP:20260421T092651
CREATED:20250825T191311Z
LAST-MODIFIED:20250825T191311Z
UID:10001172-1882522800-1882526400@www.parkparents.org
SUMMARY:Story Time
DESCRIPTION:Join us for Storytime\, a fun and interactive session for children ages 0-5! Enjoy stories and playtime followed by a simple\, age-appropriate craft to spark creativity. It’s a perfect way for little ones to explore the world of books and express themselves through art. See you at the library!
URL:https://www.parkparents.org/event/story-time-2/2029-08-27/
LOCATION:Bailey Library\, 350 Bulldogger Rd\, Bailey\, CO\, 80421\, United States
CATEGORIES:Bailey
END:VEVENT
BEGIN:VEVENT
DTSTART;TZID=UTC:20290903T110000
DTEND;TZID=UTC:20290903T120000
DTSTAMP:20260421T092651
CREATED:20250825T190527Z
LAST-MODIFIED:20250825T190527Z
UID:10000648-1883127600-1883131200@www.parkparents.org
SUMMARY:Lego Time
DESCRIPTION:Get ready for Library LegoTime! Join us in the community room for a fun and creative session where kids ages 6-12 can build\, design\, and let their imaginations run wild with Lego bricks.
URL:https://www.parkparents.org/event/lego-time/2029-09-03/
LOCATION:Bailey Library\, 350 Bulldogger Rd\, Bailey\, CO\, 80421\, United States
CATEGORIES:Bailey
END:VEVENT
BEGIN:VEVENT
DTSTART;TZID=UTC:20290903T110000
DTEND;TZID=UTC:20290903T120000
DTSTAMP:20260421T092651
CREATED:20250825T191311Z
LAST-MODIFIED:20250825T191311Z
UID:10001173-1883127600-1883131200@www.parkparents.org
SUMMARY:Story Time
DESCRIPTION:Join us for Storytime\, a fun and interactive session for children ages 0-5! Enjoy stories and playtime followed by a simple\, age-appropriate craft to spark creativity. It’s a perfect way for little ones to explore the world of books and express themselves through art. See you at the library!
URL:https://www.parkparents.org/event/story-time-2/2029-09-03/
LOCATION:Bailey Library\, 350 Bulldogger Rd\, Bailey\, CO\, 80421\, United States
CATEGORIES:Bailey
END:VEVENT
BEGIN:VEVENT
DTSTART;TZID=UTC:20290906T110000
DTEND;TZID=UTC:20290906T140000
DTSTAMP:20260421T092651
CREATED:20250825T190652Z
LAST-MODIFIED:20250825T192129Z
UID:10001271-1883386800-1883397600@www.parkparents.org
SUMMARY:Rocky Mountain Rural Health Free Screening
DESCRIPTION:Rocky Mountain Rural Health will be at Bailey Library on Thursday\, March 6th from 11:00AM 2:00 PM to provide outreach for uninsured individuals in Park County. They’ll be sharing information about their Community Medical Assistance Program\, which helps those who are uninsured or underinsured access medical care and prescriptions. \nIf you or someone you know could benefit from these services\, be sure to stop by! For more details\, visit Rocky Mountain Rural Health website or call (719) 836-2169\n.
URL:https://www.parkparents.org/event/story-time/2029-09-06/
LOCATION:Bailey Library\, 350 Bulldogger Rd\, Bailey\, CO\, 80421\, United States
CATEGORIES:Bailey
END:VEVENT
BEGIN:VEVENT
DTSTART;TZID=UTC:20290910T110000
DTEND;TZID=UTC:20290910T120000
DTSTAMP:20260421T092651
CREATED:20250825T190527Z
LAST-MODIFIED:20250825T190527Z
UID:10000649-1883732400-1883736000@www.parkparents.org
SUMMARY:Lego Time
DESCRIPTION:Get ready for Library LegoTime! Join us in the community room for a fun and creative session where kids ages 6-12 can build\, design\, and let their imaginations run wild with Lego bricks.
URL:https://www.parkparents.org/event/lego-time/2029-09-10/
LOCATION:Bailey Library\, 350 Bulldogger Rd\, Bailey\, CO\, 80421\, United States
CATEGORIES:Bailey
END:VEVENT
BEGIN:VEVENT
DTSTART;TZID=UTC:20290910T110000
DTEND;TZID=UTC:20290910T120000
DTSTAMP:20260421T092651
CREATED:20250825T191311Z
LAST-MODIFIED:20250825T191311Z
UID:10001174-1883732400-1883736000@www.parkparents.org
SUMMARY:Story Time
DESCRIPTION:Join us for Storytime\, a fun and interactive session for children ages 0-5! Enjoy stories and playtime followed by a simple\, age-appropriate craft to spark creativity. It’s a perfect way for little ones to explore the world of books and express themselves through art. See you at the library!
URL:https://www.parkparents.org/event/story-time-2/2029-09-10/
LOCATION:Bailey Library\, 350 Bulldogger Rd\, Bailey\, CO\, 80421\, United States
CATEGORIES:Bailey
END:VEVENT
BEGIN:VEVENT
DTSTART;TZID=UTC:20290917T110000
DTEND;TZID=UTC:20290917T120000
DTSTAMP:20260421T092651
CREATED:20250825T190527Z
LAST-MODIFIED:20250825T190527Z
UID:10000650-1884337200-1884340800@www.parkparents.org
SUMMARY:Lego Time
DESCRIPTION:Get ready for Library LegoTime! Join us in the community room for a fun and creative session where kids ages 6-12 can build\, design\, and let their imaginations run wild with Lego bricks.
URL:https://www.parkparents.org/event/lego-time/2029-09-17/
LOCATION:Bailey Library\, 350 Bulldogger Rd\, Bailey\, CO\, 80421\, United States
CATEGORIES:Bailey
END:VEVENT
END:VCALENDAR