BEGIN:VCALENDAR
VERSION:2.0
PRODID:-//Park Parents Family Resource Hub - ECPv6.15.20//NONSGML v1.0//EN
CALSCALE:GREGORIAN
METHOD:PUBLISH
X-WR-CALNAME:Park Parents Family Resource Hub
X-ORIGINAL-URL:https://www.parkparents.org
X-WR-CALDESC:Events for Park Parents Family Resource Hub
REFRESH-INTERVAL;VALUE=DURATION:PT1H
X-Robots-Tag:noindex
X-PUBLISHED-TTL:PT1H
BEGIN:VTIMEZONE
TZID:UTC
BEGIN:STANDARD
TZOFFSETFROM:+0000
TZOFFSETTO:+0000
TZNAME:UTC
DTSTART:20220101T000000
END:STANDARD
END:VTIMEZONE
BEGIN:VEVENT
DTSTART;TZID=UTC:20240328T110000
DTEND;TZID=UTC:20240328T120000
DTSTAMP:20260422T191953
CREATED:20240122T201559Z
LAST-MODIFIED:20240122T201559Z
UID:10000321-1711623600-1711627200@www.parkparents.org
SUMMARY:ETE Playgroups - Fairplay
DESCRIPTION:Here’s your chance to begin socializing your kiddos (and maybe you too:). Winter here can feel a bit isolating.\nPop by for one of our playgroups — release some energy\, share toys or stories\, read a story\, and make some new friends. \nWEATHER DEPENDENT! IF WEATHER IS TOO BAD FOR TRAVEL\, WE MAY RESCHEDULE. Watch https://www.facebook.com/Parkparents.org  or ETE Preschool https://www.facebook.com/profile.php?id=100084102994264 for updates. Or call Edith Teter Preschool 719-836-4434. \nAlma\, Alma Town Hall\, Mondays 2-3 pm \nHartsel\, Hartsel Community Center\, Wednesdays 10-11 am \nFairplay\, Edith Teter Preschool\, Thursdays 11-noon
URL:https://www.parkparents.org/event/ete-playgroups-fairplay/2024-03-28/
LOCATION:Edith Teter Preschool\, 640 Hathaway Street\, Fairplay\, CO\, 80440\, United States
ORGANIZER;CN="Edith Teter Preschool":MAILTO:preschool@parkcountyre2.org
END:VEVENT
BEGIN:VEVENT
DTSTART;TZID=UTC:20240321T110000
DTEND;TZID=UTC:20240321T120000
DTSTAMP:20260422T191953
CREATED:20240122T201559Z
LAST-MODIFIED:20240122T201559Z
UID:10000320-1711018800-1711022400@www.parkparents.org
SUMMARY:ETE Playgroups - Fairplay
DESCRIPTION:Here’s your chance to begin socializing your kiddos (and maybe you too:). Winter here can feel a bit isolating.\nPop by for one of our playgroups — release some energy\, share toys or stories\, read a story\, and make some new friends. \nWEATHER DEPENDENT! IF WEATHER IS TOO BAD FOR TRAVEL\, WE MAY RESCHEDULE. Watch https://www.facebook.com/Parkparents.org  or ETE Preschool https://www.facebook.com/profile.php?id=100084102994264 for updates. Or call Edith Teter Preschool 719-836-4434. \nAlma\, Alma Town Hall\, Mondays 2-3 pm \nHartsel\, Hartsel Community Center\, Wednesdays 10-11 am \nFairplay\, Edith Teter Preschool\, Thursdays 11-noon
URL:https://www.parkparents.org/event/ete-playgroups-fairplay/2024-03-21/
LOCATION:Edith Teter Preschool\, 640 Hathaway Street\, Fairplay\, CO\, 80440\, United States
ORGANIZER;CN="Edith Teter Preschool":MAILTO:preschool@parkcountyre2.org
END:VEVENT
BEGIN:VEVENT
DTSTART;TZID=UTC:20240314T110000
DTEND;TZID=UTC:20240314T120000
DTSTAMP:20260422T191953
CREATED:20240122T201559Z
LAST-MODIFIED:20240122T201559Z
UID:10000319-1710414000-1710417600@www.parkparents.org
SUMMARY:ETE Playgroups - Fairplay
DESCRIPTION:Here’s your chance to begin socializing your kiddos (and maybe you too:). Winter here can feel a bit isolating.\nPop by for one of our playgroups — release some energy\, share toys or stories\, read a story\, and make some new friends. \nWEATHER DEPENDENT! IF WEATHER IS TOO BAD FOR TRAVEL\, WE MAY RESCHEDULE. Watch https://www.facebook.com/Parkparents.org  or ETE Preschool https://www.facebook.com/profile.php?id=100084102994264 for updates. Or call Edith Teter Preschool 719-836-4434. \nAlma\, Alma Town Hall\, Mondays 2-3 pm \nHartsel\, Hartsel Community Center\, Wednesdays 10-11 am \nFairplay\, Edith Teter Preschool\, Thursdays 11-noon
URL:https://www.parkparents.org/event/ete-playgroups-fairplay/2024-03-14/
LOCATION:Edith Teter Preschool\, 640 Hathaway Street\, Fairplay\, CO\, 80440\, United States
ORGANIZER;CN="Edith Teter Preschool":MAILTO:preschool@parkcountyre2.org
END:VEVENT
BEGIN:VEVENT
DTSTART;TZID=UTC:20240307T110000
DTEND;TZID=UTC:20240307T120000
DTSTAMP:20260422T191953
CREATED:20240122T201559Z
LAST-MODIFIED:20240122T201559Z
UID:10000318-1709809200-1709812800@www.parkparents.org
SUMMARY:ETE Playgroups - Fairplay
DESCRIPTION:Here’s your chance to begin socializing your kiddos (and maybe you too:). Winter here can feel a bit isolating.\nPop by for one of our playgroups — release some energy\, share toys or stories\, read a story\, and make some new friends. \nWEATHER DEPENDENT! IF WEATHER IS TOO BAD FOR TRAVEL\, WE MAY RESCHEDULE. Watch https://www.facebook.com/Parkparents.org  or ETE Preschool https://www.facebook.com/profile.php?id=100084102994264 for updates. Or call Edith Teter Preschool 719-836-4434. \nAlma\, Alma Town Hall\, Mondays 2-3 pm \nHartsel\, Hartsel Community Center\, Wednesdays 10-11 am \nFairplay\, Edith Teter Preschool\, Thursdays 11-noon
URL:https://www.parkparents.org/event/ete-playgroups-fairplay/2024-03-07/
LOCATION:Edith Teter Preschool\, 640 Hathaway Street\, Fairplay\, CO\, 80440\, United States
ORGANIZER;CN="Edith Teter Preschool":MAILTO:preschool@parkcountyre2.org
END:VEVENT
BEGIN:VEVENT
DTSTART;TZID=UTC:20240229T110000
DTEND;TZID=UTC:20240229T120000
DTSTAMP:20260422T191953
CREATED:20240122T201559Z
LAST-MODIFIED:20240122T201559Z
UID:10000317-1709204400-1709208000@www.parkparents.org
SUMMARY:ETE Playgroups - Fairplay
DESCRIPTION:Here’s your chance to begin socializing your kiddos (and maybe you too:). Winter here can feel a bit isolating.\nPop by for one of our playgroups — release some energy\, share toys or stories\, read a story\, and make some new friends. \nWEATHER DEPENDENT! IF WEATHER IS TOO BAD FOR TRAVEL\, WE MAY RESCHEDULE. Watch https://www.facebook.com/Parkparents.org  or ETE Preschool https://www.facebook.com/profile.php?id=100084102994264 for updates. Or call Edith Teter Preschool 719-836-4434. \nAlma\, Alma Town Hall\, Mondays 2-3 pm \nHartsel\, Hartsel Community Center\, Wednesdays 10-11 am \nFairplay\, Edith Teter Preschool\, Thursdays 11-noon
URL:https://www.parkparents.org/event/ete-playgroups-fairplay/2024-02-29/
LOCATION:Edith Teter Preschool\, 640 Hathaway Street\, Fairplay\, CO\, 80440\, United States
ORGANIZER;CN="Edith Teter Preschool":MAILTO:preschool@parkcountyre2.org
END:VEVENT
BEGIN:VEVENT
DTSTART;TZID=UTC:20240222T110000
DTEND;TZID=UTC:20240222T120000
DTSTAMP:20260422T191953
CREATED:20240122T201559Z
LAST-MODIFIED:20240122T201559Z
UID:10000316-1708599600-1708603200@www.parkparents.org
SUMMARY:ETE Playgroups - Fairplay
DESCRIPTION:Here’s your chance to begin socializing your kiddos (and maybe you too:). Winter here can feel a bit isolating.\nPop by for one of our playgroups — release some energy\, share toys or stories\, read a story\, and make some new friends. \nWEATHER DEPENDENT! IF WEATHER IS TOO BAD FOR TRAVEL\, WE MAY RESCHEDULE. Watch https://www.facebook.com/Parkparents.org  or ETE Preschool https://www.facebook.com/profile.php?id=100084102994264 for updates. Or call Edith Teter Preschool 719-836-4434. \nAlma\, Alma Town Hall\, Mondays 2-3 pm \nHartsel\, Hartsel Community Center\, Wednesdays 10-11 am \nFairplay\, Edith Teter Preschool\, Thursdays 11-noon
URL:https://www.parkparents.org/event/ete-playgroups-fairplay/2024-02-22/
LOCATION:Edith Teter Preschool\, 640 Hathaway Street\, Fairplay\, CO\, 80440\, United States
ORGANIZER;CN="Edith Teter Preschool":MAILTO:preschool@parkcountyre2.org
END:VEVENT
BEGIN:VEVENT
DTSTART;TZID=UTC:20240215T110000
DTEND;TZID=UTC:20240215T120000
DTSTAMP:20260422T191953
CREATED:20240122T201559Z
LAST-MODIFIED:20240122T201559Z
UID:10000315-1707994800-1707998400@www.parkparents.org
SUMMARY:ETE Playgroups - Fairplay
DESCRIPTION:Here’s your chance to begin socializing your kiddos (and maybe you too:). Winter here can feel a bit isolating.\nPop by for one of our playgroups — release some energy\, share toys or stories\, read a story\, and make some new friends. \nWEATHER DEPENDENT! IF WEATHER IS TOO BAD FOR TRAVEL\, WE MAY RESCHEDULE. Watch https://www.facebook.com/Parkparents.org  or ETE Preschool https://www.facebook.com/profile.php?id=100084102994264 for updates. Or call Edith Teter Preschool 719-836-4434. \nAlma\, Alma Town Hall\, Mondays 2-3 pm \nHartsel\, Hartsel Community Center\, Wednesdays 10-11 am \nFairplay\, Edith Teter Preschool\, Thursdays 11-noon
URL:https://www.parkparents.org/event/ete-playgroups-fairplay/2024-02-15/
LOCATION:Edith Teter Preschool\, 640 Hathaway Street\, Fairplay\, CO\, 80440\, United States
ORGANIZER;CN="Edith Teter Preschool":MAILTO:preschool@parkcountyre2.org
END:VEVENT
BEGIN:VEVENT
DTSTART;TZID=UTC:20240208T110000
DTEND;TZID=UTC:20240208T120000
DTSTAMP:20260422T191953
CREATED:20240122T201559Z
LAST-MODIFIED:20240122T201559Z
UID:10000314-1707390000-1707393600@www.parkparents.org
SUMMARY:ETE Playgroups - Fairplay
DESCRIPTION:Here’s your chance to begin socializing your kiddos (and maybe you too:). Winter here can feel a bit isolating.\nPop by for one of our playgroups — release some energy\, share toys or stories\, read a story\, and make some new friends. \nWEATHER DEPENDENT! IF WEATHER IS TOO BAD FOR TRAVEL\, WE MAY RESCHEDULE. Watch https://www.facebook.com/Parkparents.org  or ETE Preschool https://www.facebook.com/profile.php?id=100084102994264 for updates. Or call Edith Teter Preschool 719-836-4434. \nAlma\, Alma Town Hall\, Mondays 2-3 pm \nHartsel\, Hartsel Community Center\, Wednesdays 10-11 am \nFairplay\, Edith Teter Preschool\, Thursdays 11-noon
URL:https://www.parkparents.org/event/ete-playgroups-fairplay/2024-02-08/
LOCATION:Edith Teter Preschool\, 640 Hathaway Street\, Fairplay\, CO\, 80440\, United States
ORGANIZER;CN="Edith Teter Preschool":MAILTO:preschool@parkcountyre2.org
END:VEVENT
BEGIN:VEVENT
DTSTART;TZID=UTC:20240201T110000
DTEND;TZID=UTC:20240201T120000
DTSTAMP:20260422T191953
CREATED:20240122T201559Z
LAST-MODIFIED:20240122T201559Z
UID:10000313-1706785200-1706788800@www.parkparents.org
SUMMARY:ETE Playgroups - Fairplay
DESCRIPTION:Here’s your chance to begin socializing your kiddos (and maybe you too:). Winter here can feel a bit isolating.\nPop by for one of our playgroups — release some energy\, share toys or stories\, read a story\, and make some new friends. \nWEATHER DEPENDENT! IF WEATHER IS TOO BAD FOR TRAVEL\, WE MAY RESCHEDULE. Watch https://www.facebook.com/Parkparents.org  or ETE Preschool https://www.facebook.com/profile.php?id=100084102994264 for updates. Or call Edith Teter Preschool 719-836-4434. \nAlma\, Alma Town Hall\, Mondays 2-3 pm \nHartsel\, Hartsel Community Center\, Wednesdays 10-11 am \nFairplay\, Edith Teter Preschool\, Thursdays 11-noon
URL:https://www.parkparents.org/event/ete-playgroups-fairplay/2024-02-01/
LOCATION:Edith Teter Preschool\, 640 Hathaway Street\, Fairplay\, CO\, 80440\, United States
ORGANIZER;CN="Edith Teter Preschool":MAILTO:preschool@parkcountyre2.org
END:VEVENT
BEGIN:VEVENT
DTSTART;TZID=UTC:20240125T110000
DTEND;TZID=UTC:20240125T120000
DTSTAMP:20260422T191953
CREATED:20240122T201559Z
LAST-MODIFIED:20240122T201559Z
UID:10000312-1706180400-1706184000@www.parkparents.org
SUMMARY:ETE Playgroups - Fairplay
DESCRIPTION:Here’s your chance to begin socializing your kiddos (and maybe you too:). Winter here can feel a bit isolating.\nPop by for one of our playgroups — release some energy\, share toys or stories\, read a story\, and make some new friends. \nWEATHER DEPENDENT! IF WEATHER IS TOO BAD FOR TRAVEL\, WE MAY RESCHEDULE. Watch https://www.facebook.com/Parkparents.org  or ETE Preschool https://www.facebook.com/profile.php?id=100084102994264 for updates. Or call Edith Teter Preschool 719-836-4434. \nAlma\, Alma Town Hall\, Mondays 2-3 pm \nHartsel\, Hartsel Community Center\, Wednesdays 10-11 am \nFairplay\, Edith Teter Preschool\, Thursdays 11-noon
URL:https://www.parkparents.org/event/ete-playgroups-fairplay/2024-01-25/
LOCATION:Edith Teter Preschool\, 640 Hathaway Street\, Fairplay\, CO\, 80440\, United States
ORGANIZER;CN="Edith Teter Preschool":MAILTO:preschool@parkcountyre2.org
END:VEVENT
BEGIN:VEVENT
DTSTART;TZID=UTC:20231219T100000
DTEND;TZID=UTC:20231219T103000
DTSTAMP:20260422T191953
CREATED:20231204T234112Z
LAST-MODIFIED:20231204T234452Z
UID:10000296-1702980000-1702981800@www.parkparents.org
SUMMARY:Edith Teter Preschool's Musical Snow Show
DESCRIPTION:
URL:https://www.parkparents.org/event/4680/
LOCATION:Edith Teter Preschool\, 640 Hathaway Street\, Fairplay\, CO\, 80440\, United States
ORGANIZER;CN="Edith Teter Preschool":MAILTO:preschool@parkcountyre2.org
END:VEVENT
END:VCALENDAR